BEGIN:VCALENDAR
VERSION:2.0
PRODID:-//InvisionCommunity Events 4.7.14//EN
METHOD:PUBLISH
CALSCALE:GREGORIAN
REFRESH-INTERVAL:PT15M
X-PUBLISHED-TTL:PT15M
X-WR-CALNAME:The Elder Scrolls Online
NAME:The Elder Scrolls Online
BEGIN:VTIMEZONE
TZID:Europe/London
TZURL:http://tzurl.org/zoneinfo/Europe/London
X-LIC-LOCATION:Europe/London
BEGIN:DAYLIGHT
TZOFFSETFROM:+0000
TZOFFSETTO:+0100
TZNAME:BST
DTSTART:20200329T020000Z
RRULE:FREQ=YEARLY;BYMONTH=3;BYDAY=-1SU
END:DAYLIGHT
BEGIN:STANDARD
TZOFFSETFROM:+0100
TZOFFSETTO:+0000
TZNAME:GMT
DTSTART:20201025T020000Z
RRULE:FREQ=YEARLY;BYMONTH=10;BYDAY=-1SU
END:STANDARD
END:VTIMEZONE
BEGIN:VEVENT
SUMMARY:(TESO) ветеранский триал Этериан
	ский Архив
DTSTAMP:20200113T050709Z
SEQUENCE:0
UID:6525-1-afb15bc42254ad5fb0481ce5e9c8144d@forum.bandits-clan.ru
ORGANIZER;CN="Bandit":web@bandits-clan.ru
DESCRIPTION:С 16 00 по Мск 
	Контент доста
	точно простой
	\, ставлю в расп
	исание потому
	. что в четверг
	 обещаны техраб
	оты (и до скольки о
	ни продлятся на сам
	ом деле - неизвест
	но)\, поэтому - о
	бычный вет АА.
	 Даже если те
	хработы задер
	жатся на час д
	ольше\, сиби
	ряки все ра
	вно пройдут 
	триал и пофа
	рмят золотую
	 бижу. Дополне
	ний не требуется\, 
	особого ничего не
	 требуется. А нужны н
	ам: 1 - 2 танка 2 хилер
	а Остальные - дд. З
	вание - от Рейдер+
	 (тимспик\, форум
	\, минимальный дпс
	 и пройденный норма
	л). При недоборе б
	еру желающих от 
	500 чп. Табарды\,
	 Гилдхолл. Оп
	ытных игроков 
	могу заманить
	 кофром с 5 жеодк
	ами и золотой б
	ижой на разбор.
	 Заманивайтесь
	))). Новичкам обещаю отметки в ростере и 
	хорошее настроение.
DTSTART:20200116T130000Z
ATTENDEE;CN="Bandit";CUTYPE=INDIVIDUAL;PARTSTAT=ACCEPTED:web
	@bandits-clan.ru
ATTENDEE;CN="Slayserak555";CUTYPE=INDIVIDUAL;PARTSTAT=ACCEPT
	ED:web@bandits-clan.ru
ATTENDEE;CN="BadassLoaderBot";CUTYPE=INDIVIDUAL;PARTSTAT=ACC
	EPTED:web@bandits-clan.ru
ATTENDEE;CN="Kanz1er";CUTYPE=INDIVIDUAL;PARTSTAT=ACCEPTED:we
	b@bandits-clan.ru
ATTENDEE;CN="Moxna-tka";CUTYPE=INDIVIDUAL;PARTSTAT=ACCEPTED:
	web@bandits-clan.ru
ATTENDEE;CN="Aktarios";CUTYPE=INDIVIDUAL;PARTSTAT=ACCEPTED:w
	eb@bandits-clan.ru
ATTENDEE;CN="ivydnb";CUTYPE=INDIVIDUAL;PARTSTAT=ACCEPTED:web
	@bandits-clan.ru
ATTENDEE;CN="Razfallo";CUTYPE=INDIVIDUAL;PARTSTAT=ACCEPTED:w
	eb@bandits-clan.ru
END:VEVENT
END:VCALENDAR
