BEGIN:VCALENDAR
VERSION:2.0
PRODID:-//InvisionCommunity Events 4.7.14//EN
METHOD:PUBLISH
CALSCALE:GREGORIAN
REFRESH-INTERVAL:PT15M
X-PUBLISHED-TTL:PT15M
X-WR-CALNAME:The Elder Scrolls Online
NAME:The Elder Scrolls Online
BEGIN:VTIMEZONE
TZID:Europe/London
TZURL:http://tzurl.org/zoneinfo/Europe/London
X-LIC-LOCATION:Europe/London
BEGIN:DAYLIGHT
TZOFFSETFROM:+0000
TZOFFSETTO:+0100
TZNAME:BST
DTSTART:20200329T020000Z
RRULE:FREQ=YEARLY;BYMONTH=3;BYDAY=-1SU
END:DAYLIGHT
BEGIN:STANDARD
TZOFFSETFROM:+0100
TZOFFSETTO:+0000
TZNAME:GMT
DTSTART:20201025T020000Z
RRULE:FREQ=YEARLY;BYMONTH=10;BYDAY=-1SU
END:STANDARD
END:VTIMEZONE
BEGIN:VEVENT
SUMMARY:[TESO] nCR+3 обучалка
DTSTAMP:20200107T124209Z
SEQUENCE:0
UID:6504-1-afb15bc42254ad5fb0481ce5e9c8144d@forum.bandits-clan.ru
ORGANIZER;CN="dreemspot":web@bandits-clan.ru
DESCRIPTION:В 14.30 по Москов
	скому времени. Пригла
	шаю 12 человек – 2 тан
	ка\, 2 хила\, 8 дд
	 (Обязательна отметк
	а о прохождении нормал
	 версии триала (мод DBGN)\
	, у дд обязателен ДПС от 26к+)\,
	 для прохождения:\nКлаудрест / Clou
	drest [nCR] версия +3\, Необходимо DLC -
	 Саммерсет / Summerset. При себе
	 иметь: TeamSpeak (хотя бы 
	возможность слуш
	ать)\, Табард\, ре
	мкомплекты\, ед
	у!\nДля наибо
	льшего удоб
	ства в освоении к
	онтента\, советую заранее устан
	овить такие моды как BanditsUser Interface / Code's Comba
	t Alerts / RaidNotifier. Данные м
	оды показыва
	ют атаки босс
	ов и что нуж
	но делать 
	в случае ис
	пользования их
	 боссами. В комм
	ентариях указыв
	айте свою роль и 
	игровой id.\nНа событи
	е приходите заране
	е\, сборы начинаются 
	за 10-15 мин. до назн
	аченного врем
	ени\, в противном
	 случае\, ваше
	 место уйдет
	 другому жела
	ющему. Так же
	 не забывайт
	е нажимать на кнопку«
	ПОЙДУ»! Набор в группу осуществляет
	ся по кнопке!
DTSTART:20200111T113000Z
ATTENDEE;CN="dreemspot";CUTYPE=INDIVIDUAL;PARTSTAT=ACCEPTED:
	web@bandits-clan.ru
ATTENDEE;CN="Irel";CUTYPE=INDIVIDUAL;PARTSTAT=ACCEPTED:web@b
	andits-clan.ru
ATTENDEE;CN="blacktriangle";CUTYPE=INDIVIDUAL;PARTSTAT=ACCEP
	TED:web@bandits-clan.ru
ATTENDEE;CN="Слава нск";CUTYPE=INDIVIDUAL;PARTSTAT=A
	CCEPTED:web@bandits-clan.ru
ATTENDEE;CN="BadassLoaderBot";CUTYPE=INDIVIDUAL;PARTSTAT=ACC
	EPTED:web@bandits-clan.ru
ATTENDEE;CN="Aktarios";CUTYPE=INDIVIDUAL;PARTSTAT=ACCEPTED:w
	eb@bandits-clan.ru
ATTENDEE;CN="VladRevenant";CUTYPE=INDIVIDUAL;PARTSTAT=ACCEPT
	ED:web@bandits-clan.ru
ATTENDEE;CN="Dagger";CUTYPE=INDIVIDUAL;PARTSTAT=ACCEPTED:web
	@bandits-clan.ru
ATTENDEE;CN="k111a";CUTYPE=INDIVIDUAL;PARTSTAT=ACCEPTED:web@
	bandits-clan.ru
ATTENDEE;CN="ivydnb";CUTYPE=INDIVIDUAL;PARTSTAT=ACCEPTED:web
	@bandits-clan.ru
ATTENDEE;CN="RichiFromHell";CUTYPE=INDIVIDUAL;PARTSTAT=ACCEP
	TED:web@bandits-clan.ru
ATTENDEE;CN="Дэйф";CUTYPE=INDIVIDUAL;PARTSTAT=ACCEPTED:w
	eb@bandits-clan.ru
ATTENDEE;CN="Razfallo";CUTYPE=INDIVIDUAL;PARTSTAT=ACCEPTED:w
	eb@bandits-clan.ru
ATTENDEE;CN="Neuro-Mancer";CUTYPE=INDIVIDUAL;PARTSTAT=ACCEPT
	ED:web@bandits-clan.ru
ATTENDEE;CN="Niklaus96";CUTYPE=INDIVIDUAL;PARTSTAT=ACCEPTED:
	web@bandits-clan.ru
END:VEVENT
END:VCALENDAR
