BEGIN:VCALENDAR
VERSION:2.0
PRODID:-//InvisionCommunity Events 4.7.14//EN
METHOD:PUBLISH
CALSCALE:GREGORIAN
REFRESH-INTERVAL:PT15M
X-PUBLISHED-TTL:PT15M
X-WR-CALNAME:The Elder Scrolls Online
NAME:The Elder Scrolls Online
BEGIN:VTIMEZONE
TZID:Europe/London
TZURL:http://tzurl.org/zoneinfo/Europe/London
X-LIC-LOCATION:Europe/London
BEGIN:DAYLIGHT
TZOFFSETFROM:+0000
TZOFFSETTO:+0100
TZNAME:BST
DTSTART:20200329T020000Z
RRULE:FREQ=YEARLY;BYMONTH=3;BYDAY=-1SU
END:DAYLIGHT
BEGIN:STANDARD
TZOFFSETFROM:+0100
TZOFFSETTO:+0000
TZNAME:GMT
DTSTART:20201025T020000Z
RRULE:FREQ=YEARLY;BYMONTH=10;BYDAY=-1SU
END:STANDARD
END:VTIMEZONE
BEGIN:VEVENT
SUMMARY:[TESO] Фармовый триал nMoL
DTSTAMP:20200106T090603Z
SEQUENCE:0
UID:6490-1-afb15bc42254ad5fb0481ce5e9c8144d@forum.bandits-clan.ru
ORGANIZER;CN="DemGruim ":web@bandits-clan.ru
DESCRIPTION:Приглаш
	аю всех желающих поф
	армить нормал-версию триала Па
	сть Лорхаджа (Maw of Lorkhaj — n
	MoL).\nСделаем не
	сколько зах
	одов\, можн
	о разными пе
	рсами (коли
	чество про
	хождений за
	висит от слаже
	нности группы).
	\nМаксимальная продо
	лжительность 2 часа.
	\nНачало события в 12:00 
	по МСК. Для прохожден
	ия нам нужны: 1 танк\, 2 хи
	ла и 9 дд. Требования: ► 160 чп\
	;\n► звание в гильдии Thief/S
	oldier (подробнее о звани
	ях здесь)\;\n► табард (подро
	бнее о том\, что это такое зде
	сь)\;\n► TeamSpeak (подробне
	е о нём здесь)\;\n► наличие допол
	нения \"Гильдия воров\" (Thieve
	s Guild)\;\n► комментарий 
	в этом событии с 
	указанием роли и 
	игрового ID\, ес
	ли он отличае
	тся от ника 
	на форуме. Ч
	то интересного можно п
	олучить в этом триале: ■ полезны
	е сеты:\nRoar of Alkosh (для танков)\;\nTwilight R
	emedy (для хилов)\;\n■
	 5 кристаллов 
	трансмутаци
	и\;\n■ весело
	 проведённое 
	время   Для 
	удобства за
	ранее установи
	те себе аддон\, ко
	торый показывает
	 вам лут группы\,
	 чтобы вы видели
	\, что кому уп
	ало и могли п
	опросить нуж
	ную часть се
	та у конкретного иг
	рока. С этой задачей отлично спр
	авляется аддон \"Group Loot Noti
	fier\". Обратите в
	нимание: есл
	и вы пришли 
	с опоздани
	ем – ваше мес
	то может заня
	ть любой жела
	ющий из гильде
	йского чата.\nВ
	 указанное вр
	емя собираем
	ся в тимспике\, 
	надеваем таба
	рды\, группиру
	емся в гильдхо
	лле —\nи летим 
	в триал побежда
	ть всех боссов и отбирать у них нужные н
	ам сеты.\nДо встречи!
DTSTART:20200112T090000Z
ATTENDEE;CN="DemGruim ";CUTYPE=INDIVIDUAL;PARTSTAT=ACCEPTED:
	web@bandits-clan.ru
ATTENDEE;CN="Stigmatius";CUTYPE=INDIVIDUAL;PARTSTAT=ACCEPTED
	:web@bandits-clan.ru
ATTENDEE;CN="k111a";CUTYPE=INDIVIDUAL;PARTSTAT=ACCEPTED:web@
	bandits-clan.ru
ATTENDEE;CN="Alzim";CUTYPE=INDIVIDUAL;PARTSTAT=ACCEPTED:web@
	bandits-clan.ru
ATTENDEE;CN="Zym";CUTYPE=INDIVIDUAL;PARTSTAT=ACCEPTED:web@ba
	ndits-clan.ru
ATTENDEE;CN="Дэйф";CUTYPE=INDIVIDUAL;PARTSTAT=ACCEPTED:w
	eb@bandits-clan.ru
ATTENDEE;CN="BadassLoaderBot";CUTYPE=INDIVIDUAL;PARTSTAT=ACC
	EPTED:web@bandits-clan.ru
ATTENDEE;CN="Aktarios";CUTYPE=INDIVIDUAL;PARTSTAT=ACCEPTED:w
	eb@bandits-clan.ru
ATTENDEE;CN="Dagger";CUTYPE=INDIVIDUAL;PARTSTAT=ACCEPTED:web
	@bandits-clan.ru
END:VEVENT
END:VCALENDAR
