BEGIN:VCALENDAR
VERSION:2.0
PRODID:-//InvisionCommunity Events 4.7.14//EN
METHOD:PUBLISH
CALSCALE:GREGORIAN
REFRESH-INTERVAL:PT15M
X-PUBLISHED-TTL:PT15M
X-WR-CALNAME:The Elder Scrolls Online
NAME:The Elder Scrolls Online
BEGIN:VTIMEZONE
TZID:Europe/London
TZURL:http://tzurl.org/zoneinfo/Europe/London
X-LIC-LOCATION:Europe/London
BEGIN:DAYLIGHT
TZOFFSETFROM:+0000
TZOFFSETTO:+0100
TZNAME:BST
DTSTART:20200329T020000Z
RRULE:FREQ=YEARLY;BYMONTH=3;BYDAY=-1SU
END:DAYLIGHT
BEGIN:STANDARD
TZOFFSETFROM:+0100
TZOFFSETTO:+0000
TZNAME:GMT
DTSTART:20201025T020000Z
RRULE:FREQ=YEARLY;BYMONTH=10;BYDAY=-1SU
END:STANDARD
END:VTIMEZONE
BEGIN:VEVENT
SUMMARY:Roleplay: Ловцы ветра (2 арка)
DTSTAMP:20200106T063931Z
SEQUENCE:0
UID:6489-1-afb15bc42254ad5fb0481ce5e9c8144d@forum.bandits-clan.ru
ORGANIZER;CN="Bandit":web@bandits-clan.ru
DESCRIPTION:С 15 00 по Мск\n2 арка 
	сеттинга \"Золото Старых богов\"\, с
	ервис - Roll20\, dnd3\, 5\, ведущий - Revitr
	es.\n\nТимспик\, канал 
	Мир Приключений.
	\n\nДля тех\, кто
	 хочет присое
	диниться - пр
	едварительн
	о получить ча
	р-щиты\, путевые кн
	иги и обсудить персонажей можно в
	 дискорде клана https://discord.gg/C8GXHac канал The Eld
	er Scrolls Online ловцы-ветра
DTSTART:20200111T120000Z
END:VEVENT
END:VCALENDAR
