BEGIN:VCALENDAR
VERSION:2.0
PRODID:-//InvisionCommunity Events 4.7.14//EN
METHOD:PUBLISH
CALSCALE:GREGORIAN
REFRESH-INTERVAL:PT15M
X-PUBLISHED-TTL:PT15M
X-WR-CALNAME:The Elder Scrolls Online
NAME:The Elder Scrolls Online
BEGIN:VTIMEZONE
TZID:Europe/London
TZURL:http://tzurl.org/zoneinfo/Europe/London
X-LIC-LOCATION:Europe/London
BEGIN:DAYLIGHT
TZOFFSETFROM:+0000
TZOFFSETTO:+0100
TZNAME:BST
DTSTART:20200329T020000Z
RRULE:FREQ=YEARLY;BYMONTH=3;BYDAY=-1SU
END:DAYLIGHT
BEGIN:STANDARD
TZOFFSETFROM:+0100
TZOFFSETTO:+0000
TZNAME:GMT
DTSTART:20201025T020000Z
RRULE:FREQ=YEARLY;BYMONTH=10;BYDAY=-1SU
END:STANDARD
END:VTIMEZONE
BEGIN:VEVENT
SUMMARY:[ТЕСО] Фармовый триал nSS
DTSTAMP:20200102T095058Z
SEQUENCE:0
UID:6475-1-afb15bc42254ad5fb0481ce5e9c8144d@forum.bandits-clan.ru
ORGANIZER;CN="DemGruim ":web@bandits-clan.ru
DESCRIPTION:Приглаш
	аю всех желающих по
	фармить нормал-версию тр
	иала Солнечный шпиль (Suns
	pire – nSS).\nСделаем
	 несколько 
	заходов\, м
	ожно разн
	ыми персами 
	(количество
	 прохожден
	ий зависит от
	 слаженности г
	руппы).\nМаксимальна
	я продолжительность
	 2 часа.\nНачало события
	 в 12:00 по МСК. Для прохож
	дения нам нужны: 1 танк\, 
	2 хила и 9 дд. Требования: ► 160 ч
	п\;\n► звание в гильдии Thief/
	Soldier (подробнее о зван
	иях здесь)\;\n► табард (под
	робнее о том\, что это такое
	 здесь)\;\n► TeamSpeak (под
	робнее о нём здесь)\;\n►
	 наличие главы «Эльсве
	йр» (Elsweyr)\;\n► комм
	ентарий в этом с
	обытии с указание
	м роли и игрового
	 ID\, если он от
	личается от 
	ника на фор
	уме. Что интере
	сного можно получить в этом 
	триале: ■ полезные сеты:\n‎Claw of Yolnahk
	riin (для танков)\;\nFalse God's Devotion (для мана-дд)\
	;\nTooth of Lokkestiiz (для стам-дд)
	\; ■ 5 кристал
	лов трансмут
	ации\;\n■ вес
	ело проведён
	ное время   
	Для удобства
	 заранее устан
	овите себе аддон\
	, который показыва
	ет вам лут группы
	\, чтобы вы видели
	\, что кому уп
	ало и могли п
	опросить нуж
	ную часть се
	та у конкретного иг
	рока. С этой задачей отлично спр
	авляется аддон \"Group Loot Noti
	fier\". Обратите в
	нимание: есл
	и вы пришли 
	с опоздани
	ем – ваше мес
	то может заня
	ть любой жела
	ющий из гильде
	йского чата.\nВ
	 указанное вр
	емя собираем
	ся в тимспике\, 
	надеваем таба
	рды\, группиру
	емся в гильдхо
	лле —\nи летим 
	в триал побежда
	ть всех боссов и отбирать у них нужные н
	ам сеты.\nДо встречи!
DTSTART:20200105T090000Z
ATTENDEE;CN="DemGruim ";CUTYPE=INDIVIDUAL;PARTSTAT=ACCEPTED:
	web@bandits-clan.ru
ATTENDEE;CN="Zym";CUTYPE=INDIVIDUAL;PARTSTAT=ACCEPTED:web@ba
	ndits-clan.ru
ATTENDEE;CN="k111a";CUTYPE=INDIVIDUAL;PARTSTAT=ACCEPTED:web@
	bandits-clan.ru
ATTENDEE;CN="blacktriangle";CUTYPE=INDIVIDUAL;PARTSTAT=ACCEP
	TED:web@bandits-clan.ru
ATTENDEE;CN="BadassLoaderBot";CUTYPE=INDIVIDUAL;PARTSTAT=ACC
	EPTED:web@bandits-clan.ru
ATTENDEE;CN="Aktarios";CUTYPE=INDIVIDUAL;PARTSTAT=ACCEPTED:w
	eb@bandits-clan.ru
ATTENDEE;CN="Moxna-tka";CUTYPE=INDIVIDUAL;PARTSTAT=ACCEPTED:
	web@bandits-clan.ru
ATTENDEE;CN="Alzim";CUTYPE=INDIVIDUAL;PARTSTAT=ACCEPTED:web@
	bandits-clan.ru
ATTENDEE;CN="Slayserak555";CUTYPE=INDIVIDUAL;PARTSTAT=ACCEPT
	ED:web@bandits-clan.ru
ATTENDEE;CN="DanteCrooss";CUTYPE=INDIVIDUAL;PARTSTAT=ACCEPTE
	D:web@bandits-clan.ru
ATTENDEE;CN="Слава нск";CUTYPE=INDIVIDUAL;PARTSTAT=A
	CCEPTED:web@bandits-clan.ru
ATTENDEE;CN="Lictor";CUTYPE=INDIVIDUAL;PARTSTAT=ACCEPTED:web
	@bandits-clan.ru
ATTENDEE;CN="Alexsandr984";CUTYPE=INDIVIDUAL;PARTSTAT=ACCEPT
	ED:web@bandits-clan.ru
ATTENDEE;CN="VladRevenant";CUTYPE=INDIVIDUAL;PARTSTAT=ACCEPT
	ED:web@bandits-clan.ru
ATTENDEE;CN="ivydnb";CUTYPE=INDIVIDUAL;PARTSTAT=ACCEPTED:web
	@bandits-clan.ru
ATTENDEE;CN="NeoXYZ";CUTYPE=INDIVIDUAL;PARTSTAT=ACCEPTED:web
	@bandits-clan.ru
END:VEVENT
END:VCALENDAR
