BEGIN:VCALENDAR
VERSION:2.0
PRODID:-//InvisionCommunity Events 4.7.14//EN
METHOD:PUBLISH
CALSCALE:GREGORIAN
REFRESH-INTERVAL:PT15M
X-PUBLISHED-TTL:PT15M
X-WR-CALNAME:The Elder Scrolls Online
NAME:The Elder Scrolls Online
BEGIN:VTIMEZONE
TZID:Europe/London
TZURL:http://tzurl.org/zoneinfo/Europe/London
X-LIC-LOCATION:Europe/London
BEGIN:DAYLIGHT
TZOFFSETFROM:+0000
TZOFFSETTO:+0100
TZNAME:BST
DTSTART:20190331T020000Z
RRULE:FREQ=YEARLY;BYMONTH=3;BYDAY=-1SU
END:DAYLIGHT
BEGIN:STANDARD
TZOFFSETFROM:+0100
TZOFFSETTO:+0000
TZNAME:GMT
DTSTART:20191027T020000Z
RRULE:FREQ=YEARLY;BYMONTH=10;BYDAY=-1SU
END:STANDARD
END:VTIMEZONE
BEGIN:VEVENT
SUMMARY:(TESO) Праздничное фотографировани
	е клана
DTSTAMP:20191227T040911Z
SEQUENCE:1
UID:6451-1-afb15bc42254ad5fb0481ce5e9c8144d@forum.bandits-clan.ru
ORGANIZER;CN="Bandit":web@bandits-clan.ru
DESCRIPTION:С 17 30 по Мск Р
	ебята! Каждый Новы
	й год мы встречае
	м вместе\, и\, по т
	радиции\, дела
	ем групповой
	 скриншот. Все
	\, кто не занят 
	корпоративам
	и и закупкой п
	одарков теще и жене 
	- надевайте табарды и заходите
	 в тимспик клана ts.bandits-c
	lan.ru (будет создан спец
	иальный канал в разделе TESO)\, мы пойдем и 
	обрушим сервера!
DTSTART:20191228T143000Z
END:VEVENT
END:VCALENDAR
