BEGIN:VCALENDAR
VERSION:2.0
PRODID:-//InvisionCommunity Events 4.7.14//EN
METHOD:PUBLISH
CALSCALE:GREGORIAN
REFRESH-INTERVAL:PT15M
X-PUBLISHED-TTL:PT15M
X-WR-CALNAME:The Elder Scrolls Online
NAME:The Elder Scrolls Online
BEGIN:VTIMEZONE
TZID:Europe/London
TZURL:http://tzurl.org/zoneinfo/Europe/London
X-LIC-LOCATION:Europe/London
BEGIN:DAYLIGHT
TZOFFSETFROM:+0000
TZOFFSETTO:+0100
TZNAME:BST
DTSTART:20190331T020000Z
RRULE:FREQ=YEARLY;BYMONTH=3;BYDAY=-1SU
END:DAYLIGHT
BEGIN:STANDARD
TZOFFSETFROM:+0100
TZOFFSETTO:+0000
TZNAME:GMT
DTSTART:20191027T020000Z
RRULE:FREQ=YEARLY;BYMONTH=10;BYDAY=-1SU
END:STANDARD
END:VTIMEZONE
BEGIN:VEVENT
SUMMARY:[TESO] Фармовый нормал триал
	 на выбор группы
DTSTAMP:20191217T205837Z
SEQUENCE:0
UID:6432-1-afb15bc42254ad5fb0481ce5e9c8144d@forum.bandits-clan.ru
ORGANIZER;CN="DemGruim ":web@bandits-clan.ru
DESCRIPTION:Приглаш
	аю всех желаю
	щих пофармит
	ь нормал-версию
	 любого триала 
	на ваш выбор.\nС
	делаем нескол
	ько заходов\, 
	можно разным
	и персами.\nПри налич
	ии собранной и по
	лной группы можно 
	сходить в nCR+3.\nМ
	аксимальная продолж
	ительность 2 часа.\n
	Начало события в 12:0
	0 по МСК. Для прох
	ождения нам нужны: все
	! хилы\, танки\, ддшки  Треб
	ования: ► 160 чп\;\n► звание в
	 гильдии Thief/Soldier (подр
	обнее о званиях зде
	сь)\;\n► табард (подробнее о то
	м\, что это такое здесь)\;\n► 
	TeamSpeak (подробнее о н
	ём здесь)\;\n► комм
	ентарий в этом с
	обытии с указание
	м роли и игрового
	 ID\, если он от
	личается от 
	ника на фор
	уме. Что интере
	сного можно по
	лучить в этом тр
	иале: ■ полезн
	ые сеты\;\n■ 5 к
	ристаллов т
	рансмутации
	\;\n■ весело 
	проведённое 
	время   Для 
	удобства за
	ранее установи
	те себе аддон\, ко
	торый показывает
	 вам лут группы\,
	 чтобы вы видели
	\, что кому уп
	ало и могли п
	опросить нуж
	ную часть се
	та у конкретного иг
	рока. С этой задачей отлично спр
	авляется аддон \"Group Loot Noti
	fier\". Обратите в
	нимание: есл
	и вы пришли 
	с опоздани
	ем – ваше мес
	то может заня
	ть любой жела
	ющий из гильде
	йского чата.\nВ
	 указанное вр
	емя собираем
	ся в тимспике\, 
	надеваем таба
	рды\, группиру
	емся в гильдхо
	лле —\nи летим 
	в триал побежда
	ть всех боссов и отбирать у них нужные н
	ам сеты.\nДо встречи!
DTSTART:20191222T090000Z
ATTENDEE;CN="DemGruim ";CUTYPE=INDIVIDUAL;PARTSTAT=ACCEPTED:
	web@bandits-clan.ru
ATTENDEE;CN="Immeris";CUTYPE=INDIVIDUAL;PARTSTAT=ACCEPTED:we
	b@bandits-clan.ru
ATTENDEE;CN="Zym";CUTYPE=INDIVIDUAL;PARTSTAT=ACCEPTED:web@ba
	ndits-clan.ru
ATTENDEE;CN="Razfallo";CUTYPE=INDIVIDUAL;PARTSTAT=ACCEPTED:w
	eb@bandits-clan.ru
ATTENDEE;CN="k111a";CUTYPE=INDIVIDUAL;PARTSTAT=ACCEPTED:web@
	bandits-clan.ru
ATTENDEE;CN="Raonull";CUTYPE=INDIVIDUAL;PARTSTAT=ACCEPTED:we
	b@bandits-clan.ru
ATTENDEE;CN="Leshelm";CUTYPE=INDIVIDUAL;PARTSTAT=ACCEPTED:we
	b@bandits-clan.ru
ATTENDEE;CN="Aktarios";CUTYPE=INDIVIDUAL;PARTSTAT=ACCEPTED:w
	eb@bandits-clan.ru
ATTENDEE;CN="BadassLoaderBot";CUTYPE=INDIVIDUAL;PARTSTAT=ACC
	EPTED:web@bandits-clan.ru
ATTENDEE;CN="Adrian";CUTYPE=INDIVIDUAL;PARTSTAT=ACCEPTED:web
	@bandits-clan.ru
ATTENDEE;CN="NeoXYZ";CUTYPE=INDIVIDUAL;PARTSTAT=ACCEPTED:web
	@bandits-clan.ru
ATTENDEE;CN="vadims55";CUTYPE=INDIVIDUAL;PARTSTAT=ACCEPTED:w
	eb@bandits-clan.ru
ATTENDEE;CN="Distvamp";CUTYPE=INDIVIDUAL;PARTSTAT=ACCEPTED:w
	eb@bandits-clan.ru
ATTENDEE;CN="sergey.provkin";CUTYPE=INDIVIDUAL;PARTSTAT=ACCE
	PTED:web@bandits-clan.ru
END:VEVENT
END:VCALENDAR
