BEGIN:VCALENDAR
VERSION:2.0
PRODID:-//InvisionCommunity Events 4.7.14//EN
METHOD:PUBLISH
CALSCALE:GREGORIAN
REFRESH-INTERVAL:PT15M
X-PUBLISHED-TTL:PT15M
X-WR-CALNAME:The Elder Scrolls Online
NAME:The Elder Scrolls Online
BEGIN:VTIMEZONE
TZID:Europe/London
TZURL:http://tzurl.org/zoneinfo/Europe/London
X-LIC-LOCATION:Europe/London
BEGIN:DAYLIGHT
TZOFFSETFROM:+0000
TZOFFSETTO:+0100
TZNAME:BST
DTSTART:20190331T020000Z
RRULE:FREQ=YEARLY;BYMONTH=3;BYDAY=-1SU
END:DAYLIGHT
BEGIN:STANDARD
TZOFFSETFROM:+0100
TZOFFSETTO:+0000
TZNAME:GMT
DTSTART:20191027T020000Z
RRULE:FREQ=YEARLY;BYMONTH=10;BYDAY=-1SU
END:STANDARD
END:VTIMEZONE
BEGIN:VEVENT
SUMMARY:[TESO] Обучающий триал на выбор гру
	ппы
DTSTAMP:20191216T125808Z
SEQUENCE:0
UID:6429-1-afb15bc42254ad5fb0481ce5e9c8144d@forum.bandits-clan.ru
ORGANIZER;CN="DemGruim ":web@bandits-clan.ru
DESCRIPTION:Приглашаю
	 всех желающих
	 в обучающий ре
	йд — нормал это 
	будет или ветеран
	ка\, и какой именно тр
	иал — решать вам!\nШут
	ка.\nКакой триал? 31 декабря! Н
	овый год!\nТыкайте в кнопо
	чку \"Log out\"\, потом жмак
	айте \"Завершить 
	работу\"\, выключ
	айте комп и иди
	те равлекайтес
	ь в реале! Друзья
	\, любимые и ро
	дные вас жду
	т на празднич
	ной вечеринке \nВсем хороших пра
	здников! Увидимся в новом году  
DTSTART:20191231T192200Z
END:VEVENT
END:VCALENDAR
