BEGIN:VCALENDAR
VERSION:2.0
PRODID:-//InvisionCommunity Events 4.7.14//EN
METHOD:PUBLISH
CALSCALE:GREGORIAN
REFRESH-INTERVAL:PT15M
X-PUBLISHED-TTL:PT15M
X-WR-CALNAME:The Elder Scrolls Online
NAME:The Elder Scrolls Online
BEGIN:VTIMEZONE
TZID:Europe/London
TZURL:http://tzurl.org/zoneinfo/Europe/London
X-LIC-LOCATION:Europe/London
BEGIN:DAYLIGHT
TZOFFSETFROM:+0000
TZOFFSETTO:+0100
TZNAME:BST
DTSTART:20190331T020000Z
RRULE:FREQ=YEARLY;BYMONTH=3;BYDAY=-1SU
END:DAYLIGHT
BEGIN:STANDARD
TZOFFSETFROM:+0100
TZOFFSETTO:+0000
TZNAME:GMT
DTSTART:20191027T020000Z
RRULE:FREQ=YEARLY;BYMONTH=10;BYDAY=-1SU
END:STANDARD
END:VTIMEZONE
BEGIN:VEVENT
SUMMARY:[TESO] Обучающий триал nHoF
DTSTAMP:20191211T085311Z
SEQUENCE:0
UID:6409-1-afb15bc42254ad5fb0481ce5e9c8144d@forum.bandits-clan.ru
ORGANIZER;CN="DemGruim ":web@bandits-clan.ru
DESCRIPTION:Приглашаю
	 всех желающ
	их в обучающ
	ий рейд. Проходить буд
	ем нормал-версию триала Залы Фабрика
	ции (Halls of Fabrication – nHoF).\nНачало 
	события в 22:00 по М
	СК. Ориентировочна
	я продолжительность 1
	\,5 часа. Приходите з
	а 10 минут до начал
	а\, чтобы не тра
	тить время рейда
	 на сборы.\nПрио
	ритет отдам н
	овичкам и тем\, ком
	у нужна отметка. Для
	 прохождения нам нужны: 2
	 танка\, 2 хила и 8 дд. Требов
	ания: ► 160 чп\;\n► звание в г
	ильдии Thief/Soldier (подроб
	нее о званиях здесь)\
	;\n► табард (подробнее о том\
	, что это такое здесь)\;\n► T
	eamSpeak (подробнее о 
	нём здесь)\;\n► наличие п
	одписки или дополнения
	 «Морровинд» (Morrowind)
	\;\n► комментарий в 
	этом событии с ук
	азанием роли и иг
	рового ID\, если
	 он отличаетс
	я от ника на
	 форуме. Что
	 интересного можно пол
	учить в этом триале: ■ полезные 
	сеты:\n‎War Machine (для стам-дд)\;\nMaster Arc
	hitect (для мана-дд)\;\n■ 
	отметку в росте
	р гильдии о про
	хождении\;\n■ 5
	 кристаллов
	 трансмутации\
	;\n■ весело пр
	оведённое вр
	емя   Обратит
	е внимание: е
	сли вы пришл
	и с опоздан
	ием – ваше ме
	сто может зан
	ять любой жел
	ающий из гильд
	ейского чата.\
	nВ указанное 
	время собира
	емся в тимспике
	\, надеваем таб
	арды\, группиру
	емся в гильдхолле и лети
	м в триал побеждать всех боссов.\nДо вс
	тречи!
DTSTART:20191224T190000Z
ATTENDEE;CN="DemGruim ";CUTYPE=INDIVIDUAL;PARTSTAT=ACCEPTED:
	web@bandits-clan.ru
ATTENDEE;CN="Zym";CUTYPE=INDIVIDUAL;PARTSTAT=ACCEPTED:web@ba
	ndits-clan.ru
ATTENDEE;CN="Immeris";CUTYPE=INDIVIDUAL;PARTSTAT=ACCEPTED:we
	b@bandits-clan.ru
ATTENDEE;CN="howhooristory";CUTYPE=INDIVIDUAL;PARTSTAT=ACCEP
	TED:web@bandits-clan.ru
ATTENDEE;CN="Timiri";CUTYPE=INDIVIDUAL;PARTSTAT=ACCEPTED:web
	@bandits-clan.ru
ATTENDEE;CN="Irel";CUTYPE=INDIVIDUAL;PARTSTAT=ACCEPTED:web@b
	andits-clan.ru
ATTENDEE;CN="Weaver";CUTYPE=INDIVIDUAL;PARTSTAT=ACCEPTED:web
	@bandits-clan.ru
ATTENDEE;CN="Niklaus96";CUTYPE=INDIVIDUAL;PARTSTAT=ACCEPTED:
	web@bandits-clan.ru
ATTENDEE;CN="Alzim";CUTYPE=INDIVIDUAL;PARTSTAT=ACCEPTED:web@
	bandits-clan.ru
ATTENDEE;CN="WhiteChloe";CUTYPE=INDIVIDUAL;PARTSTAT=ACCEPTED
	:web@bandits-clan.ru
ATTENDEE;CN="Leshelm";CUTYPE=INDIVIDUAL;PARTSTAT=ACCEPTED:we
	b@bandits-clan.ru
ATTENDEE;CN="Слава нск";CUTYPE=INDIVIDUAL;PARTSTAT=A
	CCEPTED:web@bandits-clan.ru
ATTENDEE;CN="NeoXYZ";CUTYPE=INDIVIDUAL;PARTSTAT=ACCEPTED:web
	@bandits-clan.ru
ATTENDEE;CN="Avaka";CUTYPE=INDIVIDUAL;PARTSTAT=ACCEPTED:web@
	bandits-clan.ru
ATTENDEE;CN="Mbsm1989";CUTYPE=INDIVIDUAL;PARTSTAT=ACCEPTED:w
	eb@bandits-clan.ru
ATTENDEE;CN="Moxna-tka";CUTYPE=INDIVIDUAL;PARTSTAT=ACCEPTED:
	web@bandits-clan.ru
ATTENDEE;CN="Nbait";CUTYPE=INDIVIDUAL;PARTSTAT=ACCEPTED:web@
	bandits-clan.ru
END:VEVENT
END:VCALENDAR
