BEGIN:VCALENDAR
VERSION:2.0
PRODID:-//InvisionCommunity Events 4.7.14//EN
METHOD:PUBLISH
CALSCALE:GREGORIAN
REFRESH-INTERVAL:PT15M
X-PUBLISHED-TTL:PT15M
X-WR-CALNAME:The Elder Scrolls Online
NAME:The Elder Scrolls Online
BEGIN:VTIMEZONE
TZID:Europe/London
TZURL:http://tzurl.org/zoneinfo/Europe/London
X-LIC-LOCATION:Europe/London
BEGIN:DAYLIGHT
TZOFFSETFROM:+0000
TZOFFSETTO:+0100
TZNAME:BST
DTSTART:20190331T020000Z
RRULE:FREQ=YEARLY;BYMONTH=3;BYDAY=-1SU
END:DAYLIGHT
BEGIN:STANDARD
TZOFFSETFROM:+0100
TZOFFSETTO:+0000
TZNAME:GMT
DTSTART:20191027T020000Z
RRULE:FREQ=YEARLY;BYMONTH=10;BYDAY=-1SU
END:STANDARD
END:VTIMEZONE
BEGIN:VEVENT
SUMMARY:Обучающий ветеранский триал Halls o
	f Fabrication
DTSTAMP:20191209T130003Z
SEQUENCE:0
UID:6402-1-afb15bc42254ad5fb0481ce5e9c8144d@forum.bandits-clan.ru
ORGANIZER;CN="FearFur":web@bandits-clan.ru
DESCRIPTION:Обучающий ветеранский триа
	л Halls of Fabrication\nНачало события 1
	5-00 по МСК\nСбор начинает
	ся в 14-50. Если вы записалис
	ь\, но не пришли до 15
	-00\, ваше место мо
	жет занять любой желающ
	ий из чата. Требования:\n-
	 Наличие главы Morrowind или подписки\
	n- Звание от Bandit / Guard и выше\n
	- Подтвержденный ДПС 30к+ дл
	я дд\n- Аттестация VETERAN на танке\n
	- Табард гильдии\n- TeamS
	peak\n- Отметка о про
	хождении нормал
	 версии триала с
	 гильдией (или\
	, как минимум\, зн
	ание базовых механик бос
	сов) Нам потребуются:\n- 
	2 танка\n- 2 хила\n- 8 дд\
	nИзученная спосо
	бность Purge обя
	зательна для
	 всех! Видео-гайд на ру
	сском языке обязателен к ознакомлению htt
	p://forum.bandits...showtopic=65748 Чтобы попа
	сть в рейд:\n1. Написа
	ть в комментариях св
	ою роль (и id\, если он о
	тличается от ника н
	а форуме)\n2. Нажать к
	нопку \"ПОЙДУ\" 
	справа. Комме
	нтарий из п
	.1 не явля
	ется подтв
	ерждением зап
	иси на событие! П
	родолжительность с
	обытия - не более 3 ча
	сов.\nСбор\, перекуры\,
	 перекусы и т.д. та
	кже входят в ука
	занные 3 часа\,
	 так что про
	шу всех прих
	одить вовремя
	 и подготовлен
	ными на все слу
	чаи жизни)\nПо
	жалуйста\, вн
	имательно читайт
	е требования\, не тратьте понапрасну
	 свое и чужое время)
DTSTART:20191212T120000Z
ATTENDEE;CN="FearFur";CUTYPE=INDIVIDUAL;PARTSTAT=ACCEPTED:we
	b@bandits-clan.ru
ATTENDEE;CN="Avaka";CUTYPE=INDIVIDUAL;PARTSTAT=ACCEPTED:web@
	bandits-clan.ru
ATTENDEE;CN="k111a";CUTYPE=INDIVIDUAL;PARTSTAT=ACCEPTED:web@
	bandits-clan.ru
ATTENDEE;CN="Aktarios";CUTYPE=INDIVIDUAL;PARTSTAT=ACCEPTED:w
	eb@bandits-clan.ru
ATTENDEE;CN="Nazuron";CUTYPE=INDIVIDUAL;PARTSTAT=ACCEPTED:we
	b@bandits-clan.ru
ATTENDEE;CN="Moxna-tka";CUTYPE=INDIVIDUAL;PARTSTAT=ACCEPTED:
	web@bandits-clan.ru
ATTENDEE;CN="podnebesniivolk";CUTYPE=INDIVIDUAL;PARTSTAT=ACC
	EPTED:web@bandits-clan.ru
ATTENDEE;CN="botannik";CUTYPE=INDIVIDUAL;PARTSTAT=ACCEPTED:w
	eb@bandits-clan.ru
ATTENDEE;CN="лонлиавеню";CUTYPE=INDIVIDUAL;PARTSTA
	T=ACCEPTED:web@bandits-clan.ru
ATTENDEE;CN="Korax";CUTYPE=INDIVIDUAL;PARTSTAT=ACCEPTED:web@
	bandits-clan.ru
ATTENDEE;CN="Iwarion";CUTYPE=INDIVIDUAL;PARTSTAT=ACCEPTED:we
	b@bandits-clan.ru
END:VEVENT
END:VCALENDAR
