BEGIN:VCALENDAR
VERSION:2.0
PRODID:-//InvisionCommunity Events 4.7.14//EN
METHOD:PUBLISH
CALSCALE:GREGORIAN
REFRESH-INTERVAL:PT15M
X-PUBLISHED-TTL:PT15M
X-WR-CALNAME:The Elder Scrolls Online
NAME:The Elder Scrolls Online
BEGIN:VTIMEZONE
TZID:Europe/London
TZURL:http://tzurl.org/zoneinfo/Europe/London
X-LIC-LOCATION:Europe/London
BEGIN:DAYLIGHT
TZOFFSETFROM:+0000
TZOFFSETTO:+0100
TZNAME:BST
DTSTART:20190331T020000Z
RRULE:FREQ=YEARLY;BYMONTH=3;BYDAY=-1SU
END:DAYLIGHT
BEGIN:STANDARD
TZOFFSETFROM:+0100
TZOFFSETTO:+0000
TZNAME:GMT
DTSTART:20191027T020000Z
RRULE:FREQ=YEARLY;BYMONTH=10;BYDAY=-1SU
END:STANDARD
END:VTIMEZONE
BEGIN:VEVENT
SUMMARY:(TESO) СЕМИНАР по соркам (дд\, ПвЕ)
DTSTAMP:20191208T102502Z
SEQUENCE:0
UID:6393-1-afb15bc42254ad5fb0481ce5e9c8144d@forum.bandits-clan.ru
ORGANIZER;CN="Bandit":web@bandits-clan.ru
DESCRIPTION:С 15 00 по Мск Ци
	кл семинаров \"Лучши
	е из лучших\" продолжает
	ся семинаром по классу So
	rcerer (Чародей) в ПвЕ (дд
	) - Актуальные меты 
	и сеты\n- Изменения
	 в мете и скиллы\n- 
	Прокачка и вопрос
	ы Тимспик\, канал Гиль
	дия бойцов\, 0+ уровень Ведущий: @Hey
	mexa Не пропустите!
DTSTART:20191214T120000Z
END:VEVENT
END:VCALENDAR
