BEGIN:VCALENDAR
VERSION:2.0
PRODID:-//InvisionCommunity Events 4.7.14//EN
METHOD:PUBLISH
CALSCALE:GREGORIAN
REFRESH-INTERVAL:PT15M
X-PUBLISHED-TTL:PT15M
X-WR-CALNAME:The Elder Scrolls Online
NAME:The Elder Scrolls Online
BEGIN:VTIMEZONE
TZID:Europe/London
TZURL:http://tzurl.org/zoneinfo/Europe/London
X-LIC-LOCATION:Europe/London
BEGIN:DAYLIGHT
TZOFFSETFROM:+0000
TZOFFSETTO:+0100
TZNAME:BST
DTSTART:20190331T020000Z
RRULE:FREQ=YEARLY;BYMONTH=3;BYDAY=-1SU
END:DAYLIGHT
BEGIN:STANDARD
TZOFFSETFROM:+0100
TZOFFSETTO:+0000
TZNAME:GMT
DTSTART:20191027T020000Z
RRULE:FREQ=YEARLY;BYMONTH=10;BYDAY=-1SU
END:STANDARD
END:VTIMEZONE
BEGIN:VEVENT
SUMMARY:[TESO] Обучающий триал nMoL
DTSTAMP:20191126T134243Z
SEQUENCE:0
UID:6328-1-afb15bc42254ad5fb0481ce5e9c8144d@forum.bandits-clan.ru
ORGANIZER;CN="DemGruim ":web@bandits-clan.ru
DESCRIPTION:Приглашаю
	 всех желающ
	их в обучающи
	й рейд. Проходить будем 
	нормал-версию триала Пасть Лор
	хаджа (Maw of Lorkhaj — nMoL).\nНачал
	о события в 22:00 по 
	МСК. Ориентировоч
	ная продолжительност
	ь 1\,5 часа. Приходите
	 за 10 минут до нач
	ала\, чтобы не т
	ратить время рей
	да на сборы.\nПр
	иоритет отдам
	 новичкам и тем\, к
	ому нужна отметка. Д
	ля прохождения нам нужны: 
	1 танк\, 2 хила и 9 дд. Требова
	ния: ► 160 чп\;\n► звание в ги
	льдии Thief/Soldier (подробн
	ее о званиях здесь)\;\
	n► табард (подробнее о том\
	, что это такое здесь)\;\n► T
	eamSpeak (подробнее о нём
	 здесь)\;\n► наличие дополнения \
	"Гильдия воров\" (Thieves Gui
	ld)\;\n► комментарий в
	 этом событии с ук
	азанием роли и иг
	рового ID\, если
	 он отличаетс
	я от ника на
	 форуме. Что и
	нтересного можно получить
	 в этом триале: ■ полезные сеты:\nRoar 
	of Alkosh (для танков)\;\nTwilight Remedy 
	(для хилов)\;\n■ от
	метку в ростер г
	ильдии о прохо
	ждении\;\n■ 5 к
	ристаллов тр
	ансмутации\;\
	n■ весело пр
	оведённое вр
	емя   Обратит
	е внимание: е
	сли вы пришл
	и с опоздан
	ием – ваше ме
	сто может зан
	ять любой жел
	ающий из гильд
	ейского чата.\
	nВ указанное 
	время собира
	емся в тимспике
	\, надеваем таб
	арды\, группиру
	емся в гильдхолле и лети
	м в триал побеждать всех боссов.\nДо вс
	тречи!
DTSTART:20191203T190000Z
ATTENDEE;CN="DemGruim ";CUTYPE=INDIVIDUAL;PARTSTAT=ACCEPTED:
	web@bandits-clan.ru
ATTENDEE;CN="Zym";CUTYPE=INDIVIDUAL;PARTSTAT=ACCEPTED:web@ba
	ndits-clan.ru
ATTENDEE;CN="BIGBOriSS";CUTYPE=INDIVIDUAL;PARTSTAT=ACCEPTED:
	web@bandits-clan.ru
ATTENDEE;CN="AsanAJess";CUTYPE=INDIVIDUAL;PARTSTAT=ACCEPTED:
	web@bandits-clan.ru
ATTENDEE;CN="sinister2000";CUTYPE=INDIVIDUAL;PARTSTAT=ACCEPT
	ED:web@bandits-clan.ru
ATTENDEE;CN="howhooristory";CUTYPE=INDIVIDUAL;PARTSTAT=ACCEP
	TED:web@bandits-clan.ru
ATTENDEE;CN="Irel";CUTYPE=INDIVIDUAL;PARTSTAT=ACCEPTED:web@b
	andits-clan.ru
ATTENDEE;CN="Moxna-tka";CUTYPE=INDIVIDUAL;PARTSTAT=ACCEPTED:
	web@bandits-clan.ru
ATTENDEE;CN="Niklaus96";CUTYPE=INDIVIDUAL;PARTSTAT=ACCEPTED:
	web@bandits-clan.ru
ATTENDEE;CN="Mbsm1989";CUTYPE=INDIVIDUAL;PARTSTAT=ACCEPTED:w
	eb@bandits-clan.ru
ATTENDEE;CN="Keeper";CUTYPE=INDIVIDUAL;PARTSTAT=ACCEPTED:web
	@bandits-clan.ru
ATTENDEE;CN="remains";CUTYPE=INDIVIDUAL;PARTSTAT=ACCEPTED:we
	b@bandits-clan.ru
ATTENDEE;CN="Pipito";CUTYPE=INDIVIDUAL;PARTSTAT=ACCEPTED:web
	@bandits-clan.ru
ATTENDEE;CN="WEOM";CUTYPE=INDIVIDUAL;PARTSTAT=ACCEPTED:web@b
	andits-clan.ru
ATTENDEE;CN="Xapym";CUTYPE=INDIVIDUAL;PARTSTAT=ACCEPTED:web@
	bandits-clan.ru
ATTENDEE;CN="Immeris";CUTYPE=INDIVIDUAL;PARTSTAT=ACCEPTED:we
	b@bandits-clan.ru
END:VEVENT
END:VCALENDAR
