BEGIN:VCALENDAR
VERSION:2.0
PRODID:-//InvisionCommunity Events 4.7.14//EN
METHOD:PUBLISH
CALSCALE:GREGORIAN
REFRESH-INTERVAL:PT15M
X-PUBLISHED-TTL:PT15M
X-WR-CALNAME:The Elder Scrolls Online
NAME:The Elder Scrolls Online
BEGIN:VTIMEZONE
TZID:Europe/London
TZURL:http://tzurl.org/zoneinfo/Europe/London
X-LIC-LOCATION:Europe/London
BEGIN:DAYLIGHT
TZOFFSETFROM:+0000
TZOFFSETTO:+0100
TZNAME:BST
DTSTART:20190331T020000Z
RRULE:FREQ=YEARLY;BYMONTH=3;BYDAY=-1SU
END:DAYLIGHT
BEGIN:STANDARD
TZOFFSETFROM:+0100
TZOFFSETTO:+0000
TZNAME:GMT
DTSTART:20191027T020000Z
RRULE:FREQ=YEARLY;BYMONTH=10;BYDAY=-1SU
END:STANDARD
END:VTIMEZONE
BEGIN:VEVENT
SUMMARY:(TESO) Учебный вет АС+1 (+2)
DTSTAMP:20191125T110406Z
SEQUENCE:0
UID:6324-1-afb15bc42254ad5fb0481ce5e9c8144d@forum.bandits-clan.ru
ORGANIZER;CN="Bandit":web@bandits-clan.ru
DESCRIPTION:Повторенье -
	 мать ученья!  З
	акрепляем пройд
	енное\, смотрим +1 с з
	еленым и продолж
	аем отрабатывать 
	+2 С 16 00 по Мс
	к Ветеранс
	кий триал А
	силум Санкт
	ориум (Изол
	яционный Санкту
	арий)\, дополнени
	е Заводной город С
	 включением режима +1
	 (+Фелмс или +Ллотис)
	 (будем еще немно
	го смотреть +2 - хард
	-мод в ознакомительны
	х целях) Нужно: 12 чело
	век от Bandit+ (подтв
	ержденный дпс и о
	пыт в нормале-в
	ете приветству
	ется)\, 2 танка 2 
	хилера(проштуд
	ировать предварите
	льно тему: \, остальны
	е - рендж-дд (минимум
	 2 дд с Крашинг шоко
	м)\, желательно 
	в мана-билдах со 
	щитами. \nПриори
	тет более выс
	оким званиям
	 и тем. кто был в
	 прошлый раз. Неплохо предва
	рительно посмотреть сюда:\nhttp://forum.ban
	dits...showtopic=66701 Предустановленные аддоны As
	ylum Tracker Panel\, Bandits User Interface\, Asylum Sanctorium Status Pan
	el\, Raid Notifier либо аналоги - обяза
	тельны. Роль - в комментариях.
DTSTART:20191128T130000Z
ATTENDEE;CN="Bandit";CUTYPE=INDIVIDUAL;PARTSTAT=ACCEPTED:web
	@bandits-clan.ru
ATTENDEE;CN="Done_Korleone";CUTYPE=INDIVIDUAL;PARTSTAT=ACCEP
	TED:web@bandits-clan.ru
ATTENDEE;CN="Canis";CUTYPE=INDIVIDUAL;PARTSTAT=ACCEPTED:web@
	bandits-clan.ru
ATTENDEE;CN="Fantagero";CUTYPE=INDIVIDUAL;PARTSTAT=ACCEPTED:
	web@bandits-clan.ru
ATTENDEE;CN="BlackBaby123";CUTYPE=INDIVIDUAL;PARTSTAT=ACCEPT
	ED:web@bandits-clan.ru
ATTENDEE;CN="Winchester";CUTYPE=INDIVIDUAL;PARTSTAT=ACCEPTED
	:web@bandits-clan.ru
END:VEVENT
END:VCALENDAR
