BEGIN:VCALENDAR
VERSION:2.0
PRODID:-//InvisionCommunity Events 4.7.14//EN
METHOD:PUBLISH
CALSCALE:GREGORIAN
REFRESH-INTERVAL:PT15M
X-PUBLISHED-TTL:PT15M
X-WR-CALNAME:The Elder Scrolls Online
NAME:The Elder Scrolls Online
BEGIN:VTIMEZONE
TZID:Europe/London
TZURL:http://tzurl.org/zoneinfo/Europe/London
X-LIC-LOCATION:Europe/London
BEGIN:DAYLIGHT
TZOFFSETFROM:+0000
TZOFFSETTO:+0100
TZNAME:BST
DTSTART:20190331T020000Z
RRULE:FREQ=YEARLY;BYMONTH=3;BYDAY=-1SU
END:DAYLIGHT
BEGIN:STANDARD
TZOFFSETFROM:+0100
TZOFFSETTO:+0000
TZNAME:GMT
DTSTART:20191027T020000Z
RRULE:FREQ=YEARLY;BYMONTH=10;BYDAY=-1SU
END:STANDARD
END:VTIMEZONE
BEGIN:VEVENT
SUMMARY:[TESO] Обучающий нормал триал на вы
	бор
DTSTAMP:20191125T063537Z
SEQUENCE:0
UID:6323-1-afb15bc42254ad5fb0481ce5e9c8144d@forum.bandits-clan.ru
ORGANIZER;CN="Winchester":web@bandits-clan.ru
DESCRIPTION:Что? Aetherian Archive / Hel Ra Citadel / Sanctum Ophidia
	 / Maw of Lorkhaj / The Halls of Fabrication / Asylum Sanctorium / Cloudre
	st / Sunspire - normal mode - на выбор и по нужда
	м группы.\nГде? Grand Topal Hideaway.
	 Для того\, чтобы туд
	а попасть\, необходимо
	 в ростере Гильдии най
	ти @Kibert и посетить её дом.
	\nКогда? Начало со
	бытия: 19:30 по мск.
	 Ориентирово
	чная длитель
	ность события
	: 1 час. Цель
	: обучить
	 новичков так
	тике прохождения триал
	ов. Требования:Минимальное
	 звание: Thief/Soldier\nМинимальный у
	ровень: 160 cp\nТабард гильдии Daggerfall/Vanguard Ba
	ndits\nTeamSpeak\n В случае
	 успешного п
	рохождения
	\, всем про
	шедшим будет 
	поставлена отметка
	 в списке представите
	лей Гильдии. 1 танк\, 2
	 хила\, 9 дд будут для
	 нас идеальным сост
	авом.\nВ случае похо
	да в HOF нужны 2 та
	нка. Приоритет д
	ля игроков\, кот
	орые ни разу н
	е посещали три
	ал и тех\, ко
	му необходи
	ма отметка о прохож
	дении. Пишите в комме
	нтариях свою роль и Ва
	ш UserID. Также\, мож
	ете сразу напи
	сать\, куда хот
	ите пойти. Приходите заранее\, берегите 
	свои и чужие нервы.
DTSTART:20191128T163000Z
ATTENDEE;CN="Legrat";CUTYPE=INDIVIDUAL;PARTSTAT=ACCEPTED:web
	@bandits-clan.ru
ATTENDEE;CN="Winchester";CUTYPE=INDIVIDUAL;PARTSTAT=ACCEPTED
	:web@bandits-clan.ru
ATTENDEE;CN="Spartak_88";CUTYPE=INDIVIDUAL;PARTSTAT=ACCEPTED
	:web@bandits-clan.ru
ATTENDEE;CN="Niklaus96";CUTYPE=INDIVIDUAL;PARTSTAT=ACCEPTED:
	web@bandits-clan.ru
ATTENDEE;CN="Sergey13";CUTYPE=INDIVIDUAL;PARTSTAT=ACCEPTED:w
	eb@bandits-clan.ru
ATTENDEE;CN="Mephystofel";CUTYPE=INDIVIDUAL;PARTSTAT=ACCEPTE
	D:web@bandits-clan.ru
ATTENDEE;CN="k111a";CUTYPE=INDIVIDUAL;PARTSTAT=ACCEPTED:web@
	bandits-clan.ru
ATTENDEE;CN="Pipito";CUTYPE=INDIVIDUAL;PARTSTAT=ACCEPTED:web
	@bandits-clan.ru
ATTENDEE;CN="howhooristory";CUTYPE=INDIVIDUAL;PARTSTAT=ACCEP
	TED:web@bandits-clan.ru
ATTENDEE;CN="WEOM";CUTYPE=INDIVIDUAL;PARTSTAT=ACCEPTED:web@b
	andits-clan.ru
ATTENDEE;CN="Moxna-tka";CUTYPE=INDIVIDUAL;PARTSTAT=ACCEPTED:
	web@bandits-clan.ru
ATTENDEE;CN="Xapym";CUTYPE=INDIVIDUAL;PARTSTAT=ACCEPTED:web@
	bandits-clan.ru
END:VEVENT
END:VCALENDAR
