BEGIN:VCALENDAR
VERSION:2.0
PRODID:-//InvisionCommunity Events 4.7.14//EN
METHOD:PUBLISH
CALSCALE:GREGORIAN
REFRESH-INTERVAL:PT15M
X-PUBLISHED-TTL:PT15M
X-WR-CALNAME:The Elder Scrolls Online
NAME:The Elder Scrolls Online
BEGIN:VTIMEZONE
TZID:Europe/London
TZURL:http://tzurl.org/zoneinfo/Europe/London
X-LIC-LOCATION:Europe/London
BEGIN:DAYLIGHT
TZOFFSETFROM:+0000
TZOFFSETTO:+0100
TZNAME:BST
DTSTART:20190331T020000Z
RRULE:FREQ=YEARLY;BYMONTH=3;BYDAY=-1SU
END:DAYLIGHT
BEGIN:STANDARD
TZOFFSETFROM:+0100
TZOFFSETTO:+0000
TZNAME:GMT
DTSTART:20191027T020000Z
RRULE:FREQ=YEARLY;BYMONTH=10;BYDAY=-1SU
END:STANDARD
END:VTIMEZONE
BEGIN:VEVENT
SUMMARY:[TESO] Фармовый триал nSS
DTSTAMP:20191124T112215Z
SEQUENCE:2
UID:6316-1-afb15bc42254ad5fb0481ce5e9c8144d@forum.bandits-clan.ru
ORGANIZER;CN="DemGruim ":web@bandits-clan.ru
DESCRIPTION:Приглаш
	аю всех желающих по
	фармить нормал-версию три
	ала Солнечный шпиль (Sunsp
	ire – nSS).\nНа этой н
	еделе в триале
	 активен двойн
	ой дроп! Лучшее
	 время для фарм
	а.\nСделаем н
	есколько за
	ходов\, мож
	но разными 
	персами (ко
	личество п
	рохождени
	й зависит от с
	лаженности гр
	уппы).\nМаксимальная 
	продолжительность 2
	 часа.\nНачало события в
	 12:00 по МСК. Для прохожд
	ения нам нужны: 1 танк\, 2
	 хила и 9 дд. Требования: ► 160 ч
	п\;\n► звание в гильдии Thief/
	Soldier (подробнее о зван
	иях здесь)\;\n► табард (под
	робнее о том\, что это такое
	 здесь)\;\n► TeamSpeak (под
	робнее о нём здесь)\;\n►
	 наличие главы «Эльсве
	йр» (Elsweyr)\;\n► комм
	ентарий в этом с
	обытии с указание
	м роли и игрового
	 ID\, если он от
	личается от 
	ника на фор
	уме. Что интере
	сного можно получить в этом 
	триале: ■ полезные сеты:\n‎Claw of Yolnahk
	riin (для танков)\;\nFalse God's Devotion (для мана-дд)\
	;\nTooth of Lokkestiiz (для стам-дд)
	\; ■ 5 криста
	ллов трансм
	утации\;\n■
	 весело пров
	едённое вре
	мя  Для удоб
	ства заранее у
	становите себе
	 аддон\, который п
	оказывает вам лу
	т группы\, чтобы
	 вы видели\, чт
	о кому упало и
	 могли попрос
	ить нужную ч
	асть сета у к
	онкретного игрока. С эт
	ой задачей отлично справляется
	 аддон \"Group Loot Notifier\". О
	братите вним
	ание: если в
	ы пришли с 
	опозданием 
	– ваше место
	 может занять
	 любой желающ
	ий из гильдейс
	кого чата.\nВ ук
	азанное время
	 собираемся в 
	тимспике\, над
	еваем табарды
	\, группируемся
	 в гильдхолле —
	\nи летим в триал
	 побеждать всех боссов и 
	отбирать у них нужные нам сеты.\nДо встре
	чи!
DTSTART:20191201T090000Z
ATTENDEE;CN="DemGruim ";CUTYPE=INDIVIDUAL;PARTSTAT=ACCEPTED:
	web@bandits-clan.ru
ATTENDEE;CN="Zym";CUTYPE=INDIVIDUAL;PARTSTAT=ACCEPTED:web@ba
	ndits-clan.ru
ATTENDEE;CN="BIGBOriSS";CUTYPE=INDIVIDUAL;PARTSTAT=ACCEPTED:
	web@bandits-clan.ru
ATTENDEE;CN="Bagira-Olga";CUTYPE=INDIVIDUAL;PARTSTAT=ACCEPTE
	D:web@bandits-clan.ru
ATTENDEE;CN="buviGuvix";CUTYPE=INDIVIDUAL;PARTSTAT=ACCEPTED:
	web@bandits-clan.ru
ATTENDEE;CN="rdk";CUTYPE=INDIVIDUAL;PARTSTAT=ACCEPTED:web@ba
	ndits-clan.ru
ATTENDEE;CN="AndreyLenz";CUTYPE=INDIVIDUAL;PARTSTAT=ACCEPTED
	:web@bandits-clan.ru
ATTENDEE;CN="sinister2000";CUTYPE=INDIVIDUAL;PARTSTAT=ACCEPT
	ED:web@bandits-clan.ru
ATTENDEE;CN="botannik";CUTYPE=INDIVIDUAL;PARTSTAT=ACCEPTED:w
	eb@bandits-clan.ru
ATTENDEE;CN="Geluriel";CUTYPE=INDIVIDUAL;PARTSTAT=ACCEPTED:w
	eb@bandits-clan.ru
ATTENDEE;CN="DAK";CUTYPE=INDIVIDUAL;PARTSTAT=ACCEPTED:web@ba
	ndits-clan.ru
ATTENDEE;CN="Aktarios";CUTYPE=INDIVIDUAL;PARTSTAT=ACCEPTED:w
	eb@bandits-clan.ru
ATTENDEE;CN="Егор Юрьевич";CUTYPE=INDIVIDUAL;PART
	STAT=ACCEPTED:web@bandits-clan.ru
END:VEVENT
END:VCALENDAR
