BEGIN:VCALENDAR
VERSION:2.0
PRODID:-//InvisionCommunity Events 4.7.14//EN
METHOD:PUBLISH
CALSCALE:GREGORIAN
REFRESH-INTERVAL:PT15M
X-PUBLISHED-TTL:PT15M
X-WR-CALNAME:The Elder Scrolls Online
NAME:The Elder Scrolls Online
BEGIN:VTIMEZONE
TZID:Europe/London
TZURL:http://tzurl.org/zoneinfo/Europe/London
X-LIC-LOCATION:Europe/London
BEGIN:DAYLIGHT
TZOFFSETFROM:+0000
TZOFFSETTO:+0100
TZNAME:BST
DTSTART:20190331T020000Z
RRULE:FREQ=YEARLY;BYMONTH=3;BYDAY=-1SU
END:DAYLIGHT
BEGIN:STANDARD
TZOFFSETFROM:+0100
TZOFFSETTO:+0000
TZNAME:GMT
DTSTART:20191027T020000Z
RRULE:FREQ=YEARLY;BYMONTH=10;BYDAY=-1SU
END:STANDARD
END:VTIMEZONE
BEGIN:VEVENT
SUMMARY:[TESO] ПВП Сиродиил или Канализация
	 \"SK\"
DTSTAMP:20191121T064540Z
SEQUENCE:0
UID:6314-1-afb15bc42254ad5fb0481ce5e9c8144d@forum.bandits-clan.ru
ORGANIZER;CN="Anioto":web@bandits-clan.ru
DESCRIPTION:\nИДЕМ в Ка
	нализацию и
	мперского горо
	да (по пути буд
	ем убивать бо
	ссов и собирать с
	кайшарды и т.д а 
	главной изюминкой
	 будет Молаг Бал  ) !
	 но при одном усл
	овии - должно бы
	ть не меньше 12
	 участников.
	 Если будет 
	меньше - пр
	одолжаем 
	наш ежедн
	евный зах
	ват: «Зах
	ватить де
	вять разл
	ичных ресурс
	ов» — различны
	х объектов сна
	бжения\, контрол
	ируемых врагом.\
	n\nВо время заб
	ега находится
	 в ТимСпике (О
	бязательно\, чт
	обы услышать ко
	манду и вовремя сл
	инять от врага)\, 
	не забываем пр
	о Табард гильдии.\n\nБега
	ем за Ковенант Даггерфолла\
	nКампания Bahlokdaan\nУровен
	ь 10+\, шмотки по своему усмотрению\, 
	жестких правил нет.
DTSTART:20191121T160200Z
END:VEVENT
END:VCALENDAR
