BEGIN:VCALENDAR
VERSION:2.0
PRODID:-//InvisionCommunity Events 4.7.14//EN
METHOD:PUBLISH
CALSCALE:GREGORIAN
REFRESH-INTERVAL:PT15M
X-PUBLISHED-TTL:PT15M
X-WR-CALNAME:The Elder Scrolls Online
NAME:The Elder Scrolls Online
BEGIN:VTIMEZONE
TZID:Europe/London
TZURL:http://tzurl.org/zoneinfo/Europe/London
X-LIC-LOCATION:Europe/London
BEGIN:DAYLIGHT
TZOFFSETFROM:+0000
TZOFFSETTO:+0100
TZNAME:BST
DTSTART:20190331T020000Z
RRULE:FREQ=YEARLY;BYMONTH=3;BYDAY=-1SU
END:DAYLIGHT
BEGIN:STANDARD
TZOFFSETFROM:+0100
TZOFFSETTO:+0000
TZNAME:GMT
DTSTART:20191027T020000Z
RRULE:FREQ=YEARLY;BYMONTH=10;BYDAY=-1SU
END:STANDARD
END:VTIMEZONE
BEGIN:VEVENT
SUMMARY:[TESO] Обучающий триал nSO
DTSTAMP:20191120T134557Z
SEQUENCE:0
UID:6313-1-afb15bc42254ad5fb0481ce5e9c8144d@forum.bandits-clan.ru
ORGANIZER;CN="DemGruim ":web@bandits-clan.ru
DESCRIPTION:Приглашаю
	 всех желающ
	их в обучаю
	щий рейд. Проходить 
	будем нормал-версию триала
	 Святилище Офидии (Sanctum Ophidi
	a) (также известен как nSO
	).\nНачало события в 22
	:00 по МСК. Ориентиров
	очная продолжительнос
	ть 1-1\,5 часа. Приходит
	е за 10 минут до на
	чала\, чтобы не 
	тратить время р
	ейда на сборы.\n
	Приоритет отд
	ам новичкам и тем
	\, кому нужна отметка. 
	Для прохождения нам нужны
	: 1 танк\, 2 хила и 9 дд. Требо
	вания: ► 160 чп\;\n► звание в 
	гильдии Thief/Soldier (подр
	обнее о званиях зде
	сь)\;\n► табард (подробнее о то
	м\, что это такое здесь)\;\n► 
	TeamSpeak (подробнее о н
	ём здесь)\;\n► комм
	ентарий в этом с
	обытии с указание
	м роли и игрового
	 ID\, если он от
	личается от 
	ника на фор
	уме. Что интересн
	ого можно получить в этом триал
	е: ■ полезные сеты:\nVicious Ophidian и Twice-Fa
	nged Serpent (для стам-дд)\;\nInfallible Aether
	 (для хилов)\;\n■ о
	тметку в ростер 
	гильдии о прох
	ождении\;\n■ 5 
	кристаллов 
	трансмутации\
	;\n■ весело пр
	оведённое вр
	емя   Обратит
	е внимание: е
	сли вы пришл
	и с опоздан
	ием – ваше ме
	сто может зан
	ять любой жел
	ающий из гильд
	ейского чата.\
	nВ указанное 
	время собира
	емся в тимспике
	\, надеваем таб
	арды\, группиру
	емся в гильдхолле и лети
	м в триал побеждать всех боссов.\nДо вс
	тречи!
DTSTART:20191126T190000Z
ATTENDEE;CN="Zym";CUTYPE=INDIVIDUAL;PARTSTAT=ACCEPTED:web@ba
	ndits-clan.ru
ATTENDEE;CN="DemGruim ";CUTYPE=INDIVIDUAL;PARTSTAT=ACCEPTED:
	web@bandits-clan.ru
ATTENDEE;CN="BIGBOriSS";CUTYPE=INDIVIDUAL;PARTSTAT=ACCEPTED:
	web@bandits-clan.ru
ATTENDEE;CN="Spartak_88";CUTYPE=INDIVIDUAL;PARTSTAT=ACCEPTED
	:web@bandits-clan.ru
ATTENDEE;CN="AsanAJess";CUTYPE=INDIVIDUAL;PARTSTAT=ACCEPTED:
	web@bandits-clan.ru
ATTENDEE;CN="MrMinys";CUTYPE=INDIVIDUAL;PARTSTAT=ACCEPTED:we
	b@bandits-clan.ru
ATTENDEE;CN="sinister2000";CUTYPE=INDIVIDUAL;PARTSTAT=ACCEPT
	ED:web@bandits-clan.ru
ATTENDEE;CN="Rollzed";CUTYPE=INDIVIDUAL;PARTSTAT=ACCEPTED:we
	b@bandits-clan.ru
ATTENDEE;CN="WEOM";CUTYPE=INDIVIDUAL;PARTSTAT=ACCEPTED:web@b
	andits-clan.ru
ATTENDEE;CN="Leshelm";CUTYPE=INDIVIDUAL;PARTSTAT=ACCEPTED:we
	b@bandits-clan.ru
ATTENDEE;CN="Reyesa";CUTYPE=INDIVIDUAL;PARTSTAT=ACCEPTED:web
	@bandits-clan.ru
ATTENDEE;CN="AndreyLenz";CUTYPE=INDIVIDUAL;PARTSTAT=ACCEPTED
	:web@bandits-clan.ru
ATTENDEE;CN="Pipito";CUTYPE=INDIVIDUAL;PARTSTAT=ACCEPTED:web
	@bandits-clan.ru
ATTENDEE;CN="elena_hanemer";CUTYPE=INDIVIDUAL;PARTSTAT=ACCEP
	TED:web@bandits-clan.ru
ATTENDEE;CN="Mordecai_Bot1";CUTYPE=INDIVIDUAL;PARTSTAT=ACCEP
	TED:web@bandits-clan.ru
END:VEVENT
END:VCALENDAR
