BEGIN:VCALENDAR
VERSION:2.0
PRODID:-//InvisionCommunity Events 4.7.14//EN
METHOD:PUBLISH
CALSCALE:GREGORIAN
REFRESH-INTERVAL:PT15M
X-PUBLISHED-TTL:PT15M
X-WR-CALNAME:The Elder Scrolls Online
NAME:The Elder Scrolls Online
BEGIN:VTIMEZONE
TZID:Europe/London
TZURL:http://tzurl.org/zoneinfo/Europe/London
X-LIC-LOCATION:Europe/London
BEGIN:DAYLIGHT
TZOFFSETFROM:+0000
TZOFFSETTO:+0100
TZNAME:BST
DTSTART:20190331T020000Z
RRULE:FREQ=YEARLY;BYMONTH=3;BYDAY=-1SU
END:DAYLIGHT
BEGIN:STANDARD
TZOFFSETFROM:+0100
TZOFFSETTO:+0000
TZNAME:GMT
DTSTART:20191027T020000Z
RRULE:FREQ=YEARLY;BYMONTH=10;BYDAY=-1SU
END:STANDARD
END:VTIMEZONE
BEGIN:VEVENT
SUMMARY:[TESO] ПВП Сиродиил или Канализация
	 \"SK\"
DTSTAMP:20191120T095755Z
SEQUENCE:2
UID:6312-1-afb15bc42254ad5fb0481ce5e9c8144d@forum.bandits-clan.ru
ORGANIZER;CN="Anioto":web@bandits-clan.ru
DESCRIPTION:ИДЕМ в Кан
	ализацию им
	перского город
	а (по пути буде
	м убивать бос
	сов и собирать скайш
	арды и т.д а главной
	 изюминкой будет Мола
	г Бал )\n\n! но при одном
	 условии - должно быт
	ь не меньше 12 уча
	стников.\n\nЕсл
	и будет мень
	ше - продол
	жаем наш 
	ежедневн
	ый захват
	: «Захватит
	ь девять 
	различны
	х ресурсов» 
	— различных 
	объектов снаб
	жения\, контро
	лируемых враго
	м.\n Во время з
	абега находи
	тся в ТимСпике
	 (Обязательно\, ч
	тобы услышать 
	команду и вовр
	емя слинять от
	 врага)\, не за
	бываем про Табар
	д гильдии. Бегаем за Ко
	венант Даггерфолла\nКампан
	ия Bahlokdaan\nУровень 10+\,
	 шмотки по своему усмотрению\, жестких п
	равил нет.
DTSTART:20191120T160200Z
ATTENDEE;CN="arxangelden";CUTYPE=INDIVIDUAL;PARTSTAT=ACCEPTE
	D:web@bandits-clan.ru
ATTENDEE;CN="Winchester";CUTYPE=INDIVIDUAL;PARTSTAT=ACCEPTED
	:web@bandits-clan.ru
END:VEVENT
END:VCALENDAR
