BEGIN:VCALENDAR
VERSION:2.0
PRODID:-//InvisionCommunity Events 4.7.14//EN
METHOD:PUBLISH
CALSCALE:GREGORIAN
REFRESH-INTERVAL:PT15M
X-PUBLISHED-TTL:PT15M
X-WR-CALNAME:The Elder Scrolls Online
NAME:The Elder Scrolls Online
BEGIN:VTIMEZONE
TZID:Europe/London
TZURL:http://tzurl.org/zoneinfo/Europe/London
X-LIC-LOCATION:Europe/London
BEGIN:DAYLIGHT
TZOFFSETFROM:+0000
TZOFFSETTO:+0100
TZNAME:BST
DTSTART:20190331T020000Z
RRULE:FREQ=YEARLY;BYMONTH=3;BYDAY=-1SU
END:DAYLIGHT
BEGIN:STANDARD
TZOFFSETFROM:+0100
TZOFFSETTO:+0000
TZNAME:GMT
DTSTART:20191027T020000Z
RRULE:FREQ=YEARLY;BYMONTH=10;BYDAY=-1SU
END:STANDARD
END:VTIMEZONE
BEGIN:VEVENT
SUMMARY:[TESO] Ветеранские подземелья с Ер
	маком
DTSTAMP:20191118T044750Z
SEQUENCE:0
UID:6306-1-afb15bc42254ad5fb0481ce5e9c8144d@forum.bandits-clan.ru
ORGANIZER;CN="Epmak":web@bandits-clan.ru
DESCRIPTION:\n\nКУРС МОЛО
	ДОГО БОЙЦА (ве
	теранские под
	земелья) от на
	шего сокланов
	ца Ермака!\n\"П
	риглашаю все
	х желающих п
	ровести врем
	я в приятной 
	компании\, а
	 заодно про
	йти ежедне
	вные задания 
	Неустрашимых 
	(либо другие подземел
	ья на выбор группы).\nВетеранские д
	анжи - от 160+ ЧП\, DLC - от 300+ ЧП.\n_______________________
	______________________\n \nНаучу\, по
	кажу\, расскажу все
	 механики и тактику.
	\nСтрим - не помеха\,
	 а приятный бону
	с!\nТы готов пой
	ти в поход за н
	ужным монстр-с
	етом и пройти Ку
	рс Молодого бойца
	?\nНайди меня в тимспике к
	лана.\nНе можешь найти? Пиши 
	мне в игре (@epmak) или на фо
	руме.\n \nВсего 3 места. Спешите!\nНаличи
	е ТС обязательно.
DTSTART:20191119T150000Z
ATTENDEE;CN="k111a";CUTYPE=INDIVIDUAL;PARTSTAT=ACCEPTED:web@
	bandits-clan.ru
ATTENDEE;CN="DariusL";CUTYPE=INDIVIDUAL;PARTSTAT=ACCEPTED:we
	b@bandits-clan.ru
ATTENDEE;CN="howhooristory";CUTYPE=INDIVIDUAL;PARTSTAT=ACCEP
	TED:web@bandits-clan.ru
END:VEVENT
END:VCALENDAR
