BEGIN:VCALENDAR
VERSION:2.0
PRODID:-//InvisionCommunity Events 4.7.14//EN
METHOD:PUBLISH
CALSCALE:GREGORIAN
REFRESH-INTERVAL:PT15M
X-PUBLISHED-TTL:PT15M
X-WR-CALNAME:The Elder Scrolls Online
NAME:The Elder Scrolls Online
BEGIN:VTIMEZONE
TZID:Europe/London
TZURL:http://tzurl.org/zoneinfo/Europe/London
X-LIC-LOCATION:Europe/London
BEGIN:DAYLIGHT
TZOFFSETFROM:+0000
TZOFFSETTO:+0100
TZNAME:BST
DTSTART:20190331T020000Z
RRULE:FREQ=YEARLY;BYMONTH=3;BYDAY=-1SU
END:DAYLIGHT
BEGIN:STANDARD
TZOFFSETFROM:+0100
TZOFFSETTO:+0000
TZNAME:GMT
DTSTART:20191027T020000Z
RRULE:FREQ=YEARLY;BYMONTH=10;BYDAY=-1SU
END:STANDARD
END:VTIMEZONE
BEGIN:VEVENT
SUMMARY:[TESO] Фармовый триал nHoF
DTSTAMP:20191117T225042Z
SEQUENCE:0
UID:6302-1-afb15bc42254ad5fb0481ce5e9c8144d@forum.bandits-clan.ru
ORGANIZER;CN="DemGruim ":web@bandits-clan.ru
DESCRIPTION:Приглаша
	ю всех желающих пофа
	рмить нормал-версию триала Залы Фаб
	рикации (Halls of Fabrication – nHoF)
	.\nСделаем не
	сколько зах
	одов\, можн
	о разными пе
	рсами (коли
	чество про
	хождений за
	висит от слаже
	нности группы).
	\nМаксимальная продо
	лжительность 2 часа.
	\nНачало события в 12:00 
	по МСК. Для прохожде
	ния нам нужны: 2 танка\, 2
	 хила и 8 дд. Требования: ► 160 ч
	п\;\n► звание в гильдии Thief/
	Soldier (подробнее о зван
	иях здесь)\;\n► табард (под
	робнее о том\, что это такое
	 здесь)\;\n► TeamSpeak (подр
	обнее о нём здесь)\
	;\n► наличие подписки и
	ли дополнения «Морровин
	д» (Morrowind)\;\n► комм
	ентарий в этом с
	обытии с указание
	м роли и игрового
	 ID\, если он от
	личается от 
	ника на фор
	уме. Что интере
	сного можно получить в 
	этом триале: ■ полезные сеты:\n‎War Ma
	chine (для стам-дд)\;\nMaster Architect 
	(для мана-дд)\; 
	■ 5 кристалл
	ов трансмутац
	ии\;\n■ весело 
	проведённое 
	время   Обрат
	ите внимание:
	 если вы приш
	ли с опозда
	нием – ваше м
	есто может за
	нять любой же
	лающий из гиль
	дейского чата
	.\nВ указанное 
	время собира
	емся в тимспике
	\, надеваем таб
	арды\, группир
	уемся в гильдх
	олле —\nи летим
	 в триал побежда
	ть всех боссов и отбирать у них нужные н
	ам сеты.\nДо встречи!
DTSTART:20191124T090000Z
ATTENDEE;CN="DemGruim ";CUTYPE=INDIVIDUAL;PARTSTAT=ACCEPTED:
	web@bandits-clan.ru
ATTENDEE;CN="BIGBOriSS";CUTYPE=INDIVIDUAL;PARTSTAT=ACCEPTED:
	web@bandits-clan.ru
ATTENDEE;CN="zelenin";CUTYPE=INDIVIDUAL;PARTSTAT=ACCEPTED:we
	b@bandits-clan.ru
ATTENDEE;CN="Spartak_88";CUTYPE=INDIVIDUAL;PARTSTAT=ACCEPTED
	:web@bandits-clan.ru
ATTENDEE;CN="Moxna-tka";CUTYPE=INDIVIDUAL;PARTSTAT=ACCEPTED:
	web@bandits-clan.ru
ATTENDEE;CN="BadassLoaderBot";CUTYPE=INDIVIDUAL;PARTSTAT=ACC
	EPTED:web@bandits-clan.ru
ATTENDEE;CN="Leshelm";CUTYPE=INDIVIDUAL;PARTSTAT=ACCEPTED:we
	b@bandits-clan.ru
ATTENDEE;CN="YamiShibai";CUTYPE=INDIVIDUAL;PARTSTAT=ACCEPTED
	:web@bandits-clan.ru
ATTENDEE;CN="Mordecai_Bot1";CUTYPE=INDIVIDUAL;PARTSTAT=ACCEP
	TED:web@bandits-clan.ru
END:VEVENT
END:VCALENDAR
