BEGIN:VCALENDAR
VERSION:2.0
PRODID:-//InvisionCommunity Events 4.7.14//EN
METHOD:PUBLISH
CALSCALE:GREGORIAN
REFRESH-INTERVAL:PT15M
X-PUBLISHED-TTL:PT15M
X-WR-CALNAME:The Elder Scrolls Online
NAME:The Elder Scrolls Online
BEGIN:VTIMEZONE
TZID:Europe/London
TZURL:http://tzurl.org/zoneinfo/Europe/London
X-LIC-LOCATION:Europe/London
BEGIN:DAYLIGHT
TZOFFSETFROM:+0000
TZOFFSETTO:+0100
TZNAME:BST
DTSTART:20190331T020000Z
RRULE:FREQ=YEARLY;BYMONTH=3;BYDAY=-1SU
END:DAYLIGHT
BEGIN:STANDARD
TZOFFSETFROM:+0100
TZOFFSETTO:+0000
TZNAME:GMT
DTSTART:20191027T020000Z
RRULE:FREQ=YEARLY;BYMONTH=10;BYDAY=-1SU
END:STANDARD
END:VTIMEZONE
BEGIN:VEVENT
SUMMARY:[TESO] Обучающий триал nAA
DTSTAMP:20191112T193833Z
SEQUENCE:2
UID:6295-1-afb15bc42254ad5fb0481ce5e9c8144d@forum.bandits-clan.ru
ORGANIZER;CN="DemGruim ":web@bandits-clan.ru
DESCRIPTION:Приглашаю
	 всех желающ
	их в обучаю
	щий рейд. Проходить
	 будем нормал-версию триала Э
	терианский архив (Aetherian Archiv
	e) (также известен как nAA
	).\nНачало события в
	 22:00 по МСК. Орие
	нтировочная пр
	одолжительность
	 1 час.\nПриорите
	т отдам новичкам 
	и тем\, кому нужна отм
	етка. Для прохождения 
	нам нужны: 1 танк\, 2 хила
	 и 9 дд. Требования: ► 160 чп\;\
	n► звание в гильдии Thief/So
	ldier (подробнее о звани
	ях здесь)\;\n► табард (подро
	бнее о том\, что это такое зде
	сь)\;\n► TeamSpeak (подробн
	ее о нём здесь)\
	;\n► комментарий в 
	этом событии с ук
	азанием роли и иг
	рового ID\, если
	 он отличаетс
	я от ника на
	 форуме. Что и
	нтересного можно получить
	 в этом триале: ■ полезные сеты:\nVicio
	us Ophidian (для стам-дд)\;\nInfallible Aether и Healing Mage (
	Mending) (для хилов)\;\n■ о
	тметку в ростер 
	гильдии о прох
	ождении\;\n■ 5
	 кристаллов
	 трансмутации
	\;\n■ весело п
	роведённое 
	время  Обрат
	ите внимание:
	 если вы приш
	ли с опозда
	нием – ваше м
	есто может за
	нять любой же
	лающий из гиль
	дейского чата
	.\nВ указанное 
	время собира
	емся в тимспике
	\, надеваем таб
	арды\, группиру
	емся в гильдхолле и лети
	м в триал побеждать всех боссов.\nДо вс
	тречи!
DTSTART:20191119T190000Z
ATTENDEE;CN="DemGruim ";CUTYPE=INDIVIDUAL;PARTSTAT=ACCEPTED:
	web@bandits-clan.ru
ATTENDEE;CN="AsanAJess";CUTYPE=INDIVIDUAL;PARTSTAT=ACCEPTED:
	web@bandits-clan.ru
ATTENDEE;CN="Zym";CUTYPE=INDIVIDUAL;PARTSTAT=ACCEPTED:web@ba
	ndits-clan.ru
ATTENDEE;CN="Spartak_88";CUTYPE=INDIVIDUAL;PARTSTAT=ACCEPTED
	:web@bandits-clan.ru
ATTENDEE;CN="BIGBOriSS";CUTYPE=INDIVIDUAL;PARTSTAT=ACCEPTED:
	web@bandits-clan.ru
ATTENDEE;CN="remains";CUTYPE=INDIVIDUAL;PARTSTAT=ACCEPTED:we
	b@bandits-clan.ru
ATTENDEE;CN="Solar";CUTYPE=INDIVIDUAL;PARTSTAT=ACCEPTED:web@
	bandits-clan.ru
ATTENDEE;CN="MrMinys";CUTYPE=INDIVIDUAL;PARTSTAT=ACCEPTED:we
	b@bandits-clan.ru
ATTENDEE;CN="howhooristory";CUTYPE=INDIVIDUAL;PARTSTAT=ACCEP
	TED:web@bandits-clan.ru
ATTENDEE;CN="Leshelm";CUTYPE=INDIVIDUAL;PARTSTAT=ACCEPTED:we
	b@bandits-clan.ru
ATTENDEE;CN="Pipito";CUTYPE=INDIVIDUAL;PARTSTAT=ACCEPTED:web
	@bandits-clan.ru
ATTENDEE;CN="scorn_riot";CUTYPE=INDIVIDUAL;PARTSTAT=ACCEPTED
	:web@bandits-clan.ru
ATTENDEE;CN="octopus_d";CUTYPE=INDIVIDUAL;PARTSTAT=ACCEPTED:
	web@bandits-clan.ru
ATTENDEE;CN="AndreyLenz";CUTYPE=INDIVIDUAL;PARTSTAT=ACCEPTED
	:web@bandits-clan.ru
END:VEVENT
END:VCALENDAR
