BEGIN:VCALENDAR
VERSION:2.0
PRODID:-//InvisionCommunity Events 4.7.14//EN
METHOD:PUBLISH
CALSCALE:GREGORIAN
REFRESH-INTERVAL:PT15M
X-PUBLISHED-TTL:PT15M
X-WR-CALNAME:The Elder Scrolls Online
NAME:The Elder Scrolls Online
BEGIN:VTIMEZONE
TZID:Europe/London
TZURL:http://tzurl.org/zoneinfo/Europe/London
X-LIC-LOCATION:Europe/London
BEGIN:DAYLIGHT
TZOFFSETFROM:+0000
TZOFFSETTO:+0100
TZNAME:BST
DTSTART:20190331T020000Z
RRULE:FREQ=YEARLY;BYMONTH=3;BYDAY=-1SU
END:DAYLIGHT
BEGIN:STANDARD
TZOFFSETFROM:+0100
TZOFFSETTO:+0000
TZNAME:GMT
DTSTART:20191027T020000Z
RRULE:FREQ=YEARLY;BYMONTH=10;BYDAY=-1SU
END:STANDARD
END:VTIMEZONE
BEGIN:VEVENT
SUMMARY:[TESO] vHRC обучалка
DTSTAMP:20191112T143536Z
SEQUENCE:0
UID:6294-1-afb15bc42254ad5fb0481ce5e9c8144d@forum.bandits-clan.ru
ORGANIZER;CN="dreemspot":web@bandits-clan.ru
DESCRIPTION:\nВ 15.00 по Московск
	ому времени.\n\nПриглашаю
	 12 человек – 2 танка\,
	 2 хила\, 8 дд (Об
	язательна отметка о
	 прохождении нормал вер
	сии триала (мод DBGN)\, у дд обязате
	лен ДПС от 26к+) в звании Raider/W
	arrior\, для прохождения триала:\n\nЦита
	дель Хель Ра / Hel Ra Citadel [vHRC].\n\nПри се
	бе иметь: TeamSpeak (хотя
	 бы возможность сл
	ушать)\, Табард\,
	 ремкомплекты\,
	 еду!\nДля наи
	большего уд
	обства в освоен
	ии контента\, советую заране
	е установить такие моды как BanditsUser Interface /
	 Code's Combat Alerts / RaidNotifier. Данны
	е моды показ
	ывают атаки бо
	ссов и что нужн
	о делать в слу
	чае использова
	ния их боссами.\n\nВ
	 комментариях у
	казывайте свою ро
	ль и игровой id.\nНа с
	обытие приходите з
	аранее\, сборы начин
	аются за 10-15 мин. д
	о назначенного
	 времени\, в про
	тивном случае\
	, ваше место у
	йдет другому 
	желающему. Так
	 же не забыв
	айте нажимать 
	на кнопку «ПОЙДУ»! Набор в группу осущес
	твляется по кнопке!
DTSTART:20191116T120000Z
ATTENDEE;CN="dreemspot";CUTYPE=INDIVIDUAL;PARTSTAT=ACCEPTED:
	web@bandits-clan.ru
ATTENDEE;CN="Avaka";CUTYPE=INDIVIDUAL;PARTSTAT=ACCEPTED:web@
	bandits-clan.ru
ATTENDEE;CN="BadassLoaderBot";CUTYPE=INDIVIDUAL;PARTSTAT=ACC
	EPTED:web@bandits-clan.ru
ATTENDEE;CN="Spartak_88";CUTYPE=INDIVIDUAL;PARTSTAT=ACCEPTED
	:web@bandits-clan.ru
ATTENDEE;CN="Solar";CUTYPE=INDIVIDUAL;PARTSTAT=ACCEPTED:web@
	bandits-clan.ru
ATTENDEE;CN="miZZerix";CUTYPE=INDIVIDUAL;PARTSTAT=ACCEPTED:w
	eb@bandits-clan.ru
ATTENDEE;CN="zelenin";CUTYPE=INDIVIDUAL;PARTSTAT=ACCEPTED:we
	b@bandits-clan.ru
ATTENDEE;CN="BlackBaby123";CUTYPE=INDIVIDUAL;PARTSTAT=ACCEPT
	ED:web@bandits-clan.ru
ATTENDEE;CN="Murzilkin";CUTYPE=INDIVIDUAL;PARTSTAT=ACCEPTED:
	web@bandits-clan.ru
ATTENDEE;CN="Kanz1er";CUTYPE=INDIVIDUAL;PARTSTAT=ACCEPTED:we
	b@bandits-clan.ru
ATTENDEE;CN="Mephystofel";CUTYPE=INDIVIDUAL;PARTSTAT=ACCEPTE
	D:web@bandits-clan.ru
ATTENDEE;CN="Gregorovv";CUTYPE=INDIVIDUAL;PARTSTAT=ACCEPTED:
	web@bandits-clan.ru
END:VEVENT
END:VCALENDAR
