BEGIN:VCALENDAR
VERSION:2.0
PRODID:-//InvisionCommunity Events 4.7.14//EN
METHOD:PUBLISH
CALSCALE:GREGORIAN
REFRESH-INTERVAL:PT15M
X-PUBLISHED-TTL:PT15M
X-WR-CALNAME:The Elder Scrolls Online
NAME:The Elder Scrolls Online
BEGIN:VTIMEZONE
TZID:Europe/London
TZURL:http://tzurl.org/zoneinfo/Europe/London
X-LIC-LOCATION:Europe/London
BEGIN:DAYLIGHT
TZOFFSETFROM:+0000
TZOFFSETTO:+0100
TZNAME:BST
DTSTART:20190331T020000Z
RRULE:FREQ=YEARLY;BYMONTH=3;BYDAY=-1SU
END:DAYLIGHT
BEGIN:STANDARD
TZOFFSETFROM:+0100
TZOFFSETTO:+0000
TZNAME:GMT
DTSTART:20191027T020000Z
RRULE:FREQ=YEARLY;BYMONTH=10;BYDAY=-1SU
END:STANDARD
END:VTIMEZONE
BEGIN:VEVENT
SUMMARY:[TESO] Фармовый триал nCR
DTSTAMP:20191110T172023Z
SEQUENCE:2
UID:6283-1-afb15bc42254ad5fb0481ce5e9c8144d@forum.bandits-clan.ru
ORGANIZER;CN="DemGruim ":web@bandits-clan.ru
DESCRIPTION:Приглаш
	аю всех желающих 
	пофармить норма
	л-версию триала Кл
	аудрест (nCR).\nСде
	лаем нескол
	ько заходов\,
	 можно разным
	и персами.\n
	Ориентиров
	очная продо
	лжительность 1 ча
	с (при слаженности 
	группы нормал проносится 
	за 10-15 минут).\nНачало 
	события в 12:00 по МСК. Для
	 прохождения нам нужны: 1 
	танк\, 2 хила и 9 дд. Требовани
	я: ► 160 чп\;\n► звание в гиль
	дии Thief/Soldier (подробнее
	 о званиях здесь)\;\n►
	 табард (подробнее о том\, ч
	то это такое здесь)\;\n► Tea
	mSpeak (подробнее о 
	нём здесь)\;\n► наличие п
	одписки или дополнения
	 «Саммерсет» (Summerset)
	\;\n► комментарий в 
	этом событии с ук
	азанием роли и иг
	рового ID\, если
	 он отличаетс
	я от ника на
	 форуме. Что и
	нтересного можно получить
	 в этом триале: ■ полезные сеты:\nArms 
	of Relequen (для стам-дд)\;\nVestment of Olorime (для хил
	ов)\;\nMantle of Siroria (для мана-д
	д)\; ■ 5 крист
	аллов трансм
	утации\;\n■ ве
	село провед
	ённое время 
	 Обратите вн
	имание: если
	 вы пришли с
	 опозданием
	 – ваше место
	 может занять
	 любой желающ
	ий из гильдейс
	кого чата.\nВ ук
	азанное время
	 собираемся в 
	тимспике\, над
	еваем табарды
	\, группируемся
	 в гильдхолле —
	\nи летим в триал
	 побеждать всех боссов и 
	отбирать у них нужные нам сеты.\nДо встре
	чи!
DTSTART:20191117T090000Z
ATTENDEE;CN="DemGruim ";CUTYPE=INDIVIDUAL;PARTSTAT=ACCEPTED:
	web@bandits-clan.ru
ATTENDEE;CN="scorn_riot";CUTYPE=INDIVIDUAL;PARTSTAT=ACCEPTED
	:web@bandits-clan.ru
ATTENDEE;CN="BIGBOriSS";CUTYPE=INDIVIDUAL;PARTSTAT=ACCEPTED:
	web@bandits-clan.ru
ATTENDEE;CN="Geluriel";CUTYPE=INDIVIDUAL;PARTSTAT=ACCEPTED:w
	eb@bandits-clan.ru
ATTENDEE;CN="k111a";CUTYPE=INDIVIDUAL;PARTSTAT=ACCEPTED:web@
	bandits-clan.ru
ATTENDEE;CN="Alximik37";CUTYPE=INDIVIDUAL;PARTSTAT=ACCEPTED:
	web@bandits-clan.ru
ATTENDEE;CN="Moxna-tka";CUTYPE=INDIVIDUAL;PARTSTAT=ACCEPTED:
	web@bandits-clan.ru
ATTENDEE;CN="Kanz1er";CUTYPE=INDIVIDUAL;PARTSTAT=ACCEPTED:we
	b@bandits-clan.ru
ATTENDEE;CN="Winchester";CUTYPE=INDIVIDUAL;PARTSTAT=ACCEPTED
	:web@bandits-clan.ru
END:VEVENT
END:VCALENDAR
