BEGIN:VCALENDAR
VERSION:2.0
PRODID:-//InvisionCommunity Events 4.7.14//EN
METHOD:PUBLISH
CALSCALE:GREGORIAN
REFRESH-INTERVAL:PT15M
X-PUBLISHED-TTL:PT15M
X-WR-CALNAME:The Elder Scrolls Online
NAME:The Elder Scrolls Online
BEGIN:VTIMEZONE
TZID:Europe/London
TZURL:http://tzurl.org/zoneinfo/Europe/London
X-LIC-LOCATION:Europe/London
BEGIN:DAYLIGHT
TZOFFSETFROM:+0000
TZOFFSETTO:+0100
TZNAME:BST
DTSTART:20190331T020000Z
RRULE:FREQ=YEARLY;BYMONTH=3;BYDAY=-1SU
END:DAYLIGHT
BEGIN:STANDARD
TZOFFSETFROM:+0100
TZOFFSETTO:+0000
TZNAME:GMT
DTSTART:20191027T020000Z
RRULE:FREQ=YEARLY;BYMONTH=10;BYDAY=-1SU
END:STANDARD
END:VTIMEZONE
BEGIN:VEVENT
SUMMARY:[TESO] Обучающий триал nHRC
DTSTAMP:20191110T165922Z
SEQUENCE:2
UID:6282-1-afb15bc42254ad5fb0481ce5e9c8144d@forum.bandits-clan.ru
ORGANIZER;CN="DemGruim ":web@bandits-clan.ru
DESCRIPTION:Приглашаю
	 всех желающ
	их в обучающ
	ий рейд. Прох
	одить будем норм
	ал-версию триала Ци
	тадель Хель Ра (также извес
	тен как nHRC).\nНачало 
	события в 21:30 по
	 МСК. Ориенти
	ровочная продол
	жительность 1 ча
	с.\nПриоритет о
	тдам новичкам и 
	тем\, кому нужна отмет
	ка. Для прохождения нам
	 нужны: 1 танк\, 2 хила и 
	9 дд. Требования: ► 160 чп\;\n►
	 звание в гильдии Thief/Soldi
	er (подробнее о звани
	ях здесь)\;\n► табард (подро
	бнее о том\, что это такое зде
	сь)\;\n► TeamSpeak (подробн
	ее о нём здесь)\
	;\n► комментарий в 
	этом событии с ук
	азанием роли и иг
	рового ID\, если
	 он отличаетс
	я от ника на 
	форуме. Чт
	о интересного можн
	о получить в этом триале: ■ сеты 
	на стаминщиков: Vicious Ophidian и Advancing
	 Yokeda\;\n■ отметку в 
	ростер гильдии 
	о прохождении\
	;\n■ 5 кристал
	лов трансмут
	ации\;\n■ весе
	ло проведён
	ное время  О
	братите вним
	ание: если в
	ы пришли с 
	опозданием 
	– ваше место
	 может занять
	 любой желающ
	ий из гильдейс
	кого чата.\nВ ук
	азанное время
	 собираемся в 
	тимспике\, над
	еваем табарды
	\, группируемся 
	в гильдхолле и летим в триал побе
	ждать всех боссов.\nДо встречи!
DTSTART:20191112T183000Z
ATTENDEE;CN="DemGruim ";CUTYPE=INDIVIDUAL;PARTSTAT=ACCEPTED:
	web@bandits-clan.ru
ATTENDEE;CN="Spartak_88";CUTYPE=INDIVIDUAL;PARTSTAT=ACCEPTED
	:web@bandits-clan.ru
ATTENDEE;CN="MrMinys";CUTYPE=INDIVIDUAL;PARTSTAT=ACCEPTED:we
	b@bandits-clan.ru
ATTENDEE;CN="BIGBOriSS";CUTYPE=INDIVIDUAL;PARTSTAT=ACCEPTED:
	web@bandits-clan.ru
ATTENDEE;CN="v1ad_v";CUTYPE=INDIVIDUAL;PARTSTAT=ACCEPTED:web
	@bandits-clan.ru
ATTENDEE;CN="Zym";CUTYPE=INDIVIDUAL;PARTSTAT=ACCEPTED:web@ba
	ndits-clan.ru
ATTENDEE;CN="Murzilkin";CUTYPE=INDIVIDUAL;PARTSTAT=ACCEPTED:
	web@bandits-clan.ru
ATTENDEE;CN="AsanAJess";CUTYPE=INDIVIDUAL;PARTSTAT=ACCEPTED:
	web@bandits-clan.ru
ATTENDEE;CN="Leshelm";CUTYPE=INDIVIDUAL;PARTSTAT=ACCEPTED:we
	b@bandits-clan.ru
ATTENDEE;CN="Aktarios";CUTYPE=INDIVIDUAL;PARTSTAT=ACCEPTED:w
	eb@bandits-clan.ru
ATTENDEE;CN="remains";CUTYPE=INDIVIDUAL;PARTSTAT=ACCEPTED:we
	b@bandits-clan.ru
ATTENDEE;CN="DeathsApprenticeMor";CUTYPE=INDIVIDUAL;PARTSTAT
	=ACCEPTED:web@bandits-clan.ru
ATTENDEE;CN="Pipito";CUTYPE=INDIVIDUAL;PARTSTAT=ACCEPTED:web
	@bandits-clan.ru
END:VEVENT
END:VCALENDAR
