BEGIN:VCALENDAR
VERSION:2.0
PRODID:-//InvisionCommunity Events 4.7.14//EN
METHOD:PUBLISH
CALSCALE:GREGORIAN
REFRESH-INTERVAL:PT15M
X-PUBLISHED-TTL:PT15M
X-WR-CALNAME:The Elder Scrolls Online
NAME:The Elder Scrolls Online
BEGIN:VTIMEZONE
TZID:Europe/London
TZURL:http://tzurl.org/zoneinfo/Europe/London
X-LIC-LOCATION:Europe/London
BEGIN:DAYLIGHT
TZOFFSETFROM:+0000
TZOFFSETTO:+0100
TZNAME:BST
DTSTART:20190331T020000Z
RRULE:FREQ=YEARLY;BYMONTH=3;BYDAY=-1SU
END:DAYLIGHT
BEGIN:STANDARD
TZOFFSETFROM:+0100
TZOFFSETTO:+0000
TZNAME:GMT
DTSTART:20191027T020000Z
RRULE:FREQ=YEARLY;BYMONTH=10;BYDAY=-1SU
END:STANDARD
END:VTIMEZONE
BEGIN:VEVENT
SUMMARY:[TESO] Обучающий nMoL
DTSTAMP:20191110T122533Z
SEQUENCE:2
UID:6281-1-afb15bc42254ad5fb0481ce5e9c8144d@forum.bandits-clan.ru
ORGANIZER;CN="Winchester":web@bandits-clan.ru
DESCRIPTION:Что? Maw of Lorkhaj - normal mode.\nГде? Grand Topal H
	ideaway. Для того\, чт
	обы туда попасть\, н
	еобходимо в ростере Г
	ильдии найти @Kibert и посет
	ить её дом.\nКогда? 
	Начало события: 12:
	30 по мск. Ориен
	тировочная д
	лительность 
	события: 1 ч
	ас. Цель:
	 обучить
	 новичков так
	тике прохождения триал
	ов. Требования:Минимальное
	 звание: Thief/Soldier\nМинимал
	ьный уровень: 160 cp\nОдетая накидка Гильди
	и Daggerfall/Vanguard Bandits\nTeamSpeak\nНаличие 
	подписки или DLC \"Ги
	льдия воров\"\n 
	\nВ случае у
	спешного пр
	охождения\
	, всем прош
	едшим будет по
	ставлена отметка в 
	списке представител
	ей Гильдии. 1 танк\,
	 2 хила\, 9 дд буду
	т для нас идеа
	льным составо
	м. Приоритет для 
	игроков\, котор
	ые ни разу не 
	посещали триа
	л и тех\, ком
	у необходима
	 отметка о прохожд
	ении. Пишите в комм
	ентариях свою роль 
	и Ваш UserID. Приходите заранее\, берегите
	 свои и чужие нервы.
DTSTART:20191116T093000Z
ATTENDEE;CN="Jeno";CUTYPE=INDIVIDUAL;PARTSTAT=ACCEPTED:web@b
	andits-clan.ru
ATTENDEE;CN="Winchester";CUTYPE=INDIVIDUAL;PARTSTAT=ACCEPTED
	:web@bandits-clan.ru
ATTENDEE;CN="Iwarion";CUTYPE=INDIVIDUAL;PARTSTAT=ACCEPTED:we
	b@bandits-clan.ru
ATTENDEE;CN="Moxna-tka";CUTYPE=INDIVIDUAL;PARTSTAT=ACCEPTED:
	web@bandits-clan.ru
ATTENDEE;CN="AndreyLenz";CUTYPE=INDIVIDUAL;PARTSTAT=ACCEPTED
	:web@bandits-clan.ru
ATTENDEE;CN="octopus_d";CUTYPE=INDIVIDUAL;PARTSTAT=ACCEPTED:
	web@bandits-clan.ru
ATTENDEE;CN="Solar";CUTYPE=INDIVIDUAL;PARTSTAT=ACCEPTED:web@
	bandits-clan.ru
ATTENDEE;CN="Xapym";CUTYPE=INDIVIDUAL;PARTSTAT=ACCEPTED:web@
	bandits-clan.ru
ATTENDEE;CN="Evil Witch";CUTYPE=INDIVIDUAL;PARTSTAT=ACCEPTED
	:web@bandits-clan.ru
ATTENDEE;CN="Avaka";CUTYPE=INDIVIDUAL;PARTSTAT=ACCEPTED:web@
	bandits-clan.ru
ATTENDEE;CN="BIGBOriSS";CUTYPE=INDIVIDUAL;PARTSTAT=ACCEPTED:
	web@bandits-clan.ru
ATTENDEE;CN="Gregorovv";CUTYPE=INDIVIDUAL;PARTSTAT=ACCEPTED:
	web@bandits-clan.ru
END:VEVENT
END:VCALENDAR
