BEGIN:VCALENDAR
VERSION:2.0
PRODID:-//InvisionCommunity Events 4.7.14//EN
METHOD:PUBLISH
CALSCALE:GREGORIAN
REFRESH-INTERVAL:PT15M
X-PUBLISHED-TTL:PT15M
X-WR-CALNAME:The Elder Scrolls Online
NAME:The Elder Scrolls Online
BEGIN:VTIMEZONE
TZID:Europe/London
TZURL:http://tzurl.org/zoneinfo/Europe/London
X-LIC-LOCATION:Europe/London
BEGIN:DAYLIGHT
TZOFFSETFROM:+0000
TZOFFSETTO:+0100
TZNAME:BST
DTSTART:20190331T020000Z
RRULE:FREQ=YEARLY;BYMONTH=3;BYDAY=-1SU
END:DAYLIGHT
BEGIN:STANDARD
TZOFFSETFROM:+0100
TZOFFSETTO:+0000
TZNAME:GMT
DTSTART:20191027T020000Z
RRULE:FREQ=YEARLY;BYMONTH=10;BYDAY=-1SU
END:STANDARD
END:VTIMEZONE
BEGIN:VEVENT
SUMMARY:[TESO] Обучающий триал vet SS
DTSTAMP:20191108T180748Z
SEQUENCE:0
UID:6278-1-afb15bc42254ad5fb0481ce5e9c8144d@forum.bandits-clan.ru
ORGANIZER;CN="Ghost_77":web@bandits-clan.ru
DESCRIPTION:Обучающий ветеранск
	ий триал SS (Sunspire)\nТребуетс
	я наличие главы Elsweyr
	 \nБуим драконо
	в убивать\, прям как 
	тот парень из Скайрим
	а. Начало события 19-30 п
	о МСК \nСбор начинается в 1
	9-20. Если вы записались\,
	 но не пришли до 19-3
	0\, ваше место мож
	ет занять любой желающий из 
	чата. Требования: \n- Звание о
	т Raider/Warrior и выше\n- Подтвержд
	енный ДПС 35k+ для дд\n- Танк
	 и хил аттестация ранга veteran\n- 
	Табард гильдии\n- TeamSp
	eak\n- Отметка о про
	хождении нор
	мал версии т
	риала с гильд
	ией\n(Если вы н
	е соответств
	уете определе
	нному требованию
	\, но уверены\, 
	что хорошо спр
	авитесь со свое
	й задачей\, пр
	осьба связаться со
	 мной в игре или на форуме) 
	Нам потребуются: \n- 2 т
	анка\n- 2 хила\n- 8
	 дд Запись в комм
	ентариях обязате
	льна (с указание
	м роли и ID\, ес
	ли он отличае
	тся от форумно
	го) Продолжительност
	ь события - не более 2
	 часов (рейд закон
	чится в 21-30 мск
	 независимо
	 от текущего 
	прогресса (возмо
	жны исключения(и 
	еще одна скобочка(ск
	обочка)))\nСбор\, пере
	куры\, перекусы и т.
	д. также входят в
	 указанные 2 ч
	аса\, так что
	 прошу всех приходить в
	овремя и подготовленными на все случаи
	 жизни)
DTSTART:20191115T163000Z
END:VEVENT
END:VCALENDAR
