BEGIN:VCALENDAR
VERSION:2.0
PRODID:-//InvisionCommunity Events 4.7.14//EN
METHOD:PUBLISH
CALSCALE:GREGORIAN
REFRESH-INTERVAL:PT15M
X-PUBLISHED-TTL:PT15M
X-WR-CALNAME:The Elder Scrolls Online
NAME:The Elder Scrolls Online
BEGIN:VTIMEZONE
TZID:Europe/London
TZURL:http://tzurl.org/zoneinfo/Europe/London
X-LIC-LOCATION:Europe/London
BEGIN:DAYLIGHT
TZOFFSETFROM:+0000
TZOFFSETTO:+0100
TZNAME:BST
DTSTART:20190331T020000Z
RRULE:FREQ=YEARLY;BYMONTH=3;BYDAY=-1SU
END:DAYLIGHT
BEGIN:STANDARD
TZOFFSETFROM:+0100
TZOFFSETTO:+0000
TZNAME:GMT
DTSTART:20191027T020000Z
RRULE:FREQ=YEARLY;BYMONTH=10;BYDAY=-1SU
END:STANDARD
END:VTIMEZONE
BEGIN:VEVENT
SUMMARY:[TESO] вет Триал на выбор
DTSTAMP:20191104T224306Z
SEQUENCE:0
UID:6272-1-afb15bc42254ad5fb0481ce5e9c8144d@forum.bandits-clan.ru
ORGANIZER;CN="Hoft":web@bandits-clan.ru
DESCRIPTION:\nТребования: ТС\,
	 Табард\, ранг от ре
	йдер.\nСобираемся\, г
	олосуем за триал\, 
	проходим.\nСбор 
	за 15 минут до на
	чала события.
	\nПродолжитель
	ность события 2 
	часа. Если собра
	лись не воврем
	я\, переоценили силы\
	, пройти не успели то просто расходим
	ся.\n\nАдд-он GroupLootNotifier http://www.esoui.com...otNotifie
	r.html обязателен д
	ля всех кто соби
	рает сеты\, пото
	му что во время 
	прохождения любой ф
	луд\, включая \"менял
	ки\" будет исключён
	. \"Лёгкий\" аддон
	\, минимальна
	я нагрузка на
	 память и ресу
	рсы. Крайне инфо
	рмативен. Показ
	ывает кому что у
	пало (сразу с 
	трейтами)\, 
	все кликабе
	льное. Вклю
	чайте в нас
	тройках по
	следний ав
	тофильтр и и
	з чата пропадет 
	флуд состоящий из
	 говнотрейтового д
	ропа. И еще раз: \"все 
	кликабельное\" (пре
	дметы\, игроки\, л
	евая\, правая кн
	опки мыши). Пр
	осто тыкаем п
	о предмету кото
	рый нам нужен и 
	в выпадающем 
	списке выбира
	ем \"попросит
	ь\"\, будет
	 автомати
	чески сфо
	рмировано
	 личное сообщение поднявше
	му предмет игроку с просьбой отдать вам.
DTSTART:20191124T180000Z
ATTENDEE;CN="Hoft";CUTYPE=INDIVIDUAL;PARTSTAT=ACCEPTED:web@b
	andits-clan.ru
ATTENDEE;CN="buviGuvix";CUTYPE=INDIVIDUAL;PARTSTAT=ACCEPTED:
	web@bandits-clan.ru
ATTENDEE;CN="Егор Юрьевич";CUTYPE=INDIVIDUAL;PART
	STAT=ACCEPTED:web@bandits-clan.ru
ATTENDEE;CN="howhooristory";CUTYPE=INDIVIDUAL;PARTSTAT=ACCEP
	TED:web@bandits-clan.ru
ATTENDEE;CN="Fantagero";CUTYPE=INDIVIDUAL;PARTSTAT=ACCEPTED:
	web@bandits-clan.ru
ATTENDEE;CN="Reyesa";CUTYPE=INDIVIDUAL;PARTSTAT=ACCEPTED:web
	@bandits-clan.ru
END:VEVENT
END:VCALENDAR
