BEGIN:VCALENDAR
VERSION:2.0
PRODID:-//InvisionCommunity Events 4.7.14//EN
METHOD:PUBLISH
CALSCALE:GREGORIAN
REFRESH-INTERVAL:PT15M
X-PUBLISHED-TTL:PT15M
X-WR-CALNAME:The Elder Scrolls Online
NAME:The Elder Scrolls Online
BEGIN:VTIMEZONE
TZID:Europe/London
TZURL:http://tzurl.org/zoneinfo/Europe/London
X-LIC-LOCATION:Europe/London
BEGIN:DAYLIGHT
TZOFFSETFROM:+0000
TZOFFSETTO:+0100
TZNAME:BST
DTSTART:20190331T020000Z
RRULE:FREQ=YEARLY;BYMONTH=3;BYDAY=-1SU
END:DAYLIGHT
BEGIN:STANDARD
TZOFFSETFROM:+0100
TZOFFSETTO:+0000
TZNAME:GMT
DTSTART:20191027T020000Z
RRULE:FREQ=YEARLY;BYMONTH=10;BYDAY=-1SU
END:STANDARD
END:VTIMEZONE
BEGIN:VEVENT
SUMMARY:[TESO] Обучающий нормал триал
DTSTAMP:20191104T075145Z
SEQUENCE:0
UID:6259-1-afb15bc42254ad5fb0481ce5e9c8144d@forum.bandits-clan.ru
ORGANIZER;CN="Winchester":web@bandits-clan.ru
DESCRIPTION:Что? Aetherian Archive / Hel Ra Citadel / Sanctum Ophidia
	 / Maw of Lorkhaj / The Halls of Fabrication / Asylum Sanctorium / Cloudre
	st / Sunspire - normal mode - на выбор и по нужда
	м группы.\nГде? Grand Topal Hideaway.
	 Для того\, чтобы туд
	а попасть\, необходимо
	 в ростере Гильдии най
	ти @Kibert и посетить её дом.
	\nКогда? Начало со
	бытия: 19:30 по мск.
	 Ориентирово
	чная длитель
	ность события
	: 1 час. Цель
	: обучить
	 новичков так
	тике прохождения триал
	ов. Требования:Минимальное
	 звание: Thief/Soldier\nМинимал
	ьный уровень: 160 cp\nОдетая накидка Гильди
	и Daggerfall/Vanguard Bandits\nTeamSpeak\n \nВ
	 случае успе
	шного прохо
	ждения\, вс
	ем прошедши
	м будет поставл
	ена отметка в списке
	 представителей Гиль
	дии. 1 танк\, 2 хила
	\, 9 дд будут для
	 нас идеальны
	м составом. Пр
	иоритет для игро
	ков\, которые ни 
	разу не посещ
	али триал и т
	ех\, кому не
	обходима отметк
	а о прохождении. П
	ишите в комментария
	х свою роль и Ваш Use
	rID. Приходите заранее\, берегите св
	ои и чужие нервы.
DTSTART:20191107T163000Z
ATTENDEE;CN="Winchester";CUTYPE=INDIVIDUAL;PARTSTAT=ACCEPTED
	:web@bandits-clan.ru
ATTENDEE;CN="Moxna-tka";CUTYPE=INDIVIDUAL;PARTSTAT=ACCEPTED:
	web@bandits-clan.ru
ATTENDEE;CN="Avaka";CUTYPE=INDIVIDUAL;PARTSTAT=ACCEPTED:web@
	bandits-clan.ru
ATTENDEE;CN="k111a";CUTYPE=INDIVIDUAL;PARTSTAT=ACCEPTED:web@
	bandits-clan.ru
ATTENDEE;CN="Xapym";CUTYPE=INDIVIDUAL;PARTSTAT=ACCEPTED:web@
	bandits-clan.ru
ATTENDEE;CN="Radoga";CUTYPE=INDIVIDUAL;PARTSTAT=ACCEPTED:web
	@bandits-clan.ru
ATTENDEE;CN="Stigmatius";CUTYPE=INDIVIDUAL;PARTSTAT=ACCEPTED
	:web@bandits-clan.ru
END:VEVENT
END:VCALENDAR
