BEGIN:VCALENDAR
VERSION:2.0
PRODID:-//InvisionCommunity Events 4.7.14//EN
METHOD:PUBLISH
CALSCALE:GREGORIAN
REFRESH-INTERVAL:PT15M
X-PUBLISHED-TTL:PT15M
X-WR-CALNAME:The Elder Scrolls Online
NAME:The Elder Scrolls Online
BEGIN:VTIMEZONE
TZID:Europe/London
TZURL:http://tzurl.org/zoneinfo/Europe/London
X-LIC-LOCATION:Europe/London
BEGIN:DAYLIGHT
TZOFFSETFROM:+0000
TZOFFSETTO:+0100
TZNAME:BST
DTSTART:20190331T020000Z
RRULE:FREQ=YEARLY;BYMONTH=3;BYDAY=-1SU
END:DAYLIGHT
BEGIN:STANDARD
TZOFFSETFROM:+0100
TZOFFSETTO:+0000
TZNAME:GMT
DTSTART:20191027T020000Z
RRULE:FREQ=YEARLY;BYMONTH=10;BYDAY=-1SU
END:STANDARD
END:VTIMEZONE
BEGIN:VEVENT
SUMMARY:[TESO] Охота на мировых боссов (0+)
DTSTAMP:20191104T074801Z
SEQUENCE:2
UID:6258-1-afb15bc42254ad5fb0481ce5e9c8144d@forum.bandits-clan.ru
ORGANIZER;CN="Winchester":web@bandits-clan.ru
DESCRIPTION:Приглашаютс
	я все желающие поо
	хотиться на миров
	ых боссов. 19:30 п
	о МСК. План действий
	 таков:Собираемся в
	 группу и выдвигаем
	ся в 19:30.\nПо-оче
	реди закрыва
	ем боссов одной л
	окации\, закрываем 
	дольмены по возможнос
	ти (ждать по 10-15 мин
	 их не будем).\nЛе
	тим в следующую
	 локацию и повто
	ряем процесс.\n\nТребова
	ния:Уровень любой\nАльянс любой\nТабард
	 Daggerfall Bandits или Vanguard Bandits\nПрисутствие в Tea
	mspeak\n
DTSTART:20191105T163000Z
ATTENDEE;CN="Winchester";CUTYPE=INDIVIDUAL;PARTSTAT=ACCEPTED
	:web@bandits-clan.ru
ATTENDEE;CN="Sergey13";CUTYPE=INDIVIDUAL;PARTSTAT=ACCEPTED:w
	eb@bandits-clan.ru
ATTENDEE;CN="Radoga";CUTYPE=INDIVIDUAL;PARTSTAT=ACCEPTED:web
	@bandits-clan.ru
ATTENDEE;CN="DeathsApprenticeMor";CUTYPE=INDIVIDUAL;PARTSTAT
	=ACCEPTED:web@bandits-clan.ru
END:VEVENT
END:VCALENDAR
