BEGIN:VCALENDAR
VERSION:2.0
PRODID:-//InvisionCommunity Events 4.7.14//EN
METHOD:PUBLISH
CALSCALE:GREGORIAN
REFRESH-INTERVAL:PT15M
X-PUBLISHED-TTL:PT15M
X-WR-CALNAME:The Elder Scrolls Online
NAME:The Elder Scrolls Online
BEGIN:VTIMEZONE
TZID:Europe/London
TZURL:http://tzurl.org/zoneinfo/Europe/London
X-LIC-LOCATION:Europe/London
BEGIN:DAYLIGHT
TZOFFSETFROM:+0000
TZOFFSETTO:+0100
TZNAME:BST
DTSTART:20190331T020000Z
RRULE:FREQ=YEARLY;BYMONTH=3;BYDAY=-1SU
END:DAYLIGHT
BEGIN:STANDARD
TZOFFSETFROM:+0100
TZOFFSETTO:+0000
TZNAME:GMT
DTSTART:20191027T020000Z
RRULE:FREQ=YEARLY;BYMONTH=10;BYDAY=-1SU
END:STANDARD
END:VTIMEZONE
BEGIN:VEVENT
SUMMARY:(TESO) Учебный нормал-триал на выбо
	р
DTSTAMP:20191104T062943Z
SEQUENCE:0
UID:6249-1-afb15bc42254ad5fb0481ce5e9c8144d@forum.bandits-clan.ru
ORGANIZER;CN="Bandit":web@bandits-clan.ru
DESCRIPTION:С 16 00 по Мск \
	nВсем новичк
	ам и желающ
	им получить
	 заветную отм
	етку в ростер
	е гильдии! Доб
	ро пожаловать 
	в учебный триал 
	по вашему выбору!
	 \nСоберемся в тим
	спике и решим\, куда п
	ойдем - любой триал 
	Краглорна\, любой тр
	иал DLC - ваше желание
	 будет для меня з
	аконом  \nТебе 
	уже исполнилос
	ь 160 Чемпионски
	х очков? Пора на
	чинать взрослую ж
	изнь в игре! Захв
	ати тимспик\, табард
	 и не забудь - сбор буде
	т в Гилдхолле!   12 чел
	овек\, звание Thief+(а
	нкета на форуме и
	 заход в тимспик - получить
	 это звание проще простого!)\
	, от 160 ЧП - 1-2 танка\, 2 хи
	лера\, остальные - 
	любые дд. \nПриорит
	ет новичкам P.S. Объяс
	няю кратко и внятно
	. На 1 триал у нас уйдет от 3
	0 минут (Аэтерианский Архи
	в) до 1\,2-1\,5 часа (это ес
	ли мы пойдем в ХоФ или 
	Санспайр\, а вы там кааааак начнете вылет
	ать... )
DTSTART:20191127T130000Z
ATTENDEE;CN="Bandit";CUTYPE=INDIVIDUAL;PARTSTAT=ACCEPTED:web
	@bandits-clan.ru
ATTENDEE;CN="k111a";CUTYPE=INDIVIDUAL;PARTSTAT=ACCEPTED:web@
	bandits-clan.ru
ATTENDEE;CN="Irel";CUTYPE=INDIVIDUAL;PARTSTAT=ACCEPTED:web@b
	andits-clan.ru
ATTENDEE;CN="Aristotel_1";CUTYPE=INDIVIDUAL;PARTSTAT=ACCEPTE
	D:web@bandits-clan.ru
ATTENDEE;CN="WEOM";CUTYPE=INDIVIDUAL;PARTSTAT=ACCEPTED:web@b
	andits-clan.ru
ATTENDEE;CN="Radoga";CUTYPE=INDIVIDUAL;PARTSTAT=ACCEPTED:web
	@bandits-clan.ru
ATTENDEE;CN="Moxna-tka";CUTYPE=INDIVIDUAL;PARTSTAT=ACCEPTED:
	web@bandits-clan.ru
ATTENDEE;CN="Babylon";CUTYPE=INDIVIDUAL;PARTSTAT=ACCEPTED:we
	b@bandits-clan.ru
ATTENDEE;CN="Spartak_88";CUTYPE=INDIVIDUAL;PARTSTAT=ACCEPTED
	:web@bandits-clan.ru
ATTENDEE;CN="Legrat";CUTYPE=INDIVIDUAL;PARTSTAT=ACCEPTED:web
	@bandits-clan.ru
ATTENDEE;CN="sinister2000";CUTYPE=INDIVIDUAL;PARTSTAT=ACCEPT
	ED:web@bandits-clan.ru
END:VEVENT
END:VCALENDAR
