BEGIN:VCALENDAR
VERSION:2.0
PRODID:-//InvisionCommunity Events 4.7.14//EN
METHOD:PUBLISH
CALSCALE:GREGORIAN
REFRESH-INTERVAL:PT15M
X-PUBLISHED-TTL:PT15M
X-WR-CALNAME:The Elder Scrolls Online
NAME:The Elder Scrolls Online
BEGIN:VTIMEZONE
TZID:Europe/London
TZURL:http://tzurl.org/zoneinfo/Europe/London
X-LIC-LOCATION:Europe/London
BEGIN:DAYLIGHT
TZOFFSETFROM:+0000
TZOFFSETTO:+0100
TZNAME:BST
DTSTART:20190331T020000Z
RRULE:FREQ=YEARLY;BYMONTH=3;BYDAY=-1SU
END:DAYLIGHT
BEGIN:STANDARD
TZOFFSETFROM:+0100
TZOFFSETTO:+0000
TZNAME:GMT
DTSTART:20191027T020000Z
RRULE:FREQ=YEARLY;BYMONTH=10;BYDAY=-1SU
END:STANDARD
END:VTIMEZONE
BEGIN:VEVENT
SUMMARY:(TESO) Учебный нормал-триал на выбо
	р
DTSTAMP:20191104T062902Z
SEQUENCE:0
UID:6248-1-afb15bc42254ad5fb0481ce5e9c8144d@forum.bandits-clan.ru
ORGANIZER;CN="Bandit":web@bandits-clan.ru
DESCRIPTION:С 16 00 по Мск
	 Всем нович
	кам и желаю
	щим получит
	ь заветную от
	метку в рост
	ере гильдии! 
	Добро пожалов
	ать в учебный тр
	иал по вашему выб
	ору! \nСоберемся 
	в тимспике и решим\,
	 куда пойдем - любой
	 триал Краглорна\, 
	любой триал DLC - 
	ваше желание бу
	дет для меня зако
	ном  \nТебе уже 
	исполнилось 160
	 Чемпионских о
	чков? Пора начин
	ать взрослую жизн
	ь в игре! Захвати т
	имспик\, табард и не 
	забудь - сбор будет в Гилдхолле! 
	\n12 человек\, звание Thief+/Sold
	ier+ (анкета на фор
	уме и заход в тимспик -
	 получить это звание проще пр
	остого!)\, от 160 ЧП - 1-2 танка
	\, 2 хилера\, остальные 
	- любые дд. \nПриорите
	т новичкам \nP.S. Объясн
	яю кратко и внятно.
	 На 1 триал у нас уйдет от 3
	0 минут (Аэтерианский Архи
	в) до 1\,2-1\,5 часа (это ес
	ли мы пойдем в ХоФ или 
	Санспайр\, а вы там кааааак начнете вылет
	ать... )
DTSTART:20191120T130000Z
ATTENDEE;CN="Bandit";CUTYPE=INDIVIDUAL;PARTSTAT=ACCEPTED:web
	@bandits-clan.ru
ATTENDEE;CN="Babylon";CUTYPE=INDIVIDUAL;PARTSTAT=ACCEPTED:we
	b@bandits-clan.ru
ATTENDEE;CN="Larisa";CUTYPE=INDIVIDUAL;PARTSTAT=ACCEPTED:web
	@bandits-clan.ru
ATTENDEE;CN="k111a";CUTYPE=INDIVIDUAL;PARTSTAT=ACCEPTED:web@
	bandits-clan.ru
ATTENDEE;CN="Radoga";CUTYPE=INDIVIDUAL;PARTSTAT=ACCEPTED:web
	@bandits-clan.ru
ATTENDEE;CN="Aristotel_1";CUTYPE=INDIVIDUAL;PARTSTAT=ACCEPTE
	D:web@bandits-clan.ru
ATTENDEE;CN="Moxna-tka";CUTYPE=INDIVIDUAL;PARTSTAT=ACCEPTED:
	web@bandits-clan.ru
ATTENDEE;CN="octopus_d";CUTYPE=INDIVIDUAL;PARTSTAT=ACCEPTED:
	web@bandits-clan.ru
ATTENDEE;CN="AndreyLenz";CUTYPE=INDIVIDUAL;PARTSTAT=ACCEPTED
	:web@bandits-clan.ru
ATTENDEE;CN="Iwarion";CUTYPE=INDIVIDUAL;PARTSTAT=ACCEPTED:we
	b@bandits-clan.ru
ATTENDEE;CN="Murzilkin";CUTYPE=INDIVIDUAL;PARTSTAT=ACCEPTED:
	web@bandits-clan.ru
ATTENDEE;CN="Solar";CUTYPE=INDIVIDUAL;PARTSTAT=ACCEPTED:web@
	bandits-clan.ru
END:VEVENT
END:VCALENDAR
