BEGIN:VCALENDAR
VERSION:2.0
PRODID:-//InvisionCommunity Events 4.7.14//EN
METHOD:PUBLISH
CALSCALE:GREGORIAN
REFRESH-INTERVAL:PT15M
X-PUBLISHED-TTL:PT15M
X-WR-CALNAME:The Elder Scrolls Online
NAME:The Elder Scrolls Online
BEGIN:VTIMEZONE
TZID:Europe/London
TZURL:http://tzurl.org/zoneinfo/Europe/London
X-LIC-LOCATION:Europe/London
BEGIN:DAYLIGHT
TZOFFSETFROM:+0000
TZOFFSETTO:+0100
TZNAME:BST
DTSTART:20190331T020000Z
RRULE:FREQ=YEARLY;BYMONTH=3;BYDAY=-1SU
END:DAYLIGHT
BEGIN:STANDARD
TZOFFSETFROM:+0100
TZOFFSETTO:+0000
TZNAME:GMT
DTSTART:20191027T020000Z
RRULE:FREQ=YEARLY;BYMONTH=10;BYDAY=-1SU
END:STANDARD
END:VTIMEZONE
BEGIN:VEVENT
SUMMARY:[TESO] Обучающий триал hmSO
DTSTAMP:20191104T062714Z
SEQUENCE:0
UID:6246-1-afb15bc42254ad5fb0481ce5e9c8144d@forum.bandits-clan.ru
ORGANIZER;CN="Ghost_77":web@bandits-clan.ru
DESCRIPTION:Обучающий ве
	теранский триал hmSO (
	Святилище Офидии) Начало
	 события 19-30 по МСК \nСбор
	 начинается в 19-20. Если вы
	 записались\, но не п
	ришли до 19-30\, в
	аше место может з
	анять любой желающий из чата.
	 Требования: \n- Звание от Raider
	/Warrior и выше\n- Подтвержде
	нный ДПС 26k+ для дд\n- Танк
	 и хил аттестация ранга normal\n- 
	Табард гильдии\n- TeamS
	peak\n- Отметка о п
	рохождении 
	ветеранской
	 версии триа
	ла с гильдией\
	n(Если вы не со
	ответствует
	е определенном
	у требованию\, н
	о уверены\, что
	 хорошо справи
	тесь со своей з
	адачей\, просьб
	а связаться со мной в 
	игре или на форуме) Нам по
	требуются: \n- 2 танка\
	n- 2 хила\n- 8 дд Запи
	сь в комментариях
	 обязательна (с у
	казанием роли 
	и ID\, если он о
	тличается от 
	форумного) Пр
	одолжительность собы
	тия - не более 2 часо
	в (рейд закончится
	 в 21-30 мск незави
	симо от текущег
	о прогресса (возмо
	жны исключения)(и еще
	 одна скобочка))\nСб
	ор\, перекуры\, переку
	сы и т.д. также вхо
	дят в указанные
	 2 часа\, так чт
	о прошу всех приходит
	ь вовремя и подготовленными на все 
	случаи жизни)
DTSTART:20191108T163000Z
END:VEVENT
END:VCALENDAR
