BEGIN:VCALENDAR
VERSION:2.0
PRODID:-//InvisionCommunity Events 4.7.14//EN
METHOD:PUBLISH
CALSCALE:GREGORIAN
REFRESH-INTERVAL:PT15M
X-PUBLISHED-TTL:PT15M
X-WR-CALNAME:The Elder Scrolls Online
NAME:The Elder Scrolls Online
BEGIN:VTIMEZONE
TZID:Europe/London
TZURL:http://tzurl.org/zoneinfo/Europe/London
X-LIC-LOCATION:Europe/London
BEGIN:DAYLIGHT
TZOFFSETFROM:+0000
TZOFFSETTO:+0100
TZNAME:BST
DTSTART:20190331T020000Z
RRULE:FREQ=YEARLY;BYMONTH=3;BYDAY=-1SU
END:DAYLIGHT
BEGIN:STANDARD
TZOFFSETFROM:+0100
TZOFFSETTO:+0000
TZNAME:GMT
DTSTART:20191027T020000Z
RRULE:FREQ=YEARLY;BYMONTH=10;BYDAY=-1SU
END:STANDARD
END:VTIMEZONE
BEGIN:VEVENT
SUMMARY:[TESO] Обучающие вет триалы Крагл
	орна (AA/SO/HRC)
DTSTAMP:20191028T103153Z
SEQUENCE:0
UID:6202-1-afb15bc42254ad5fb0481ce5e9c8144d@forum.bandits-clan.ru
ORGANIZER;CN="Ghost_77":web@bandits-clan.ru
DESCRIPTION:Обучаю
	щий ветеранский
	 триал краглорна н
	а выбор группы Начало со
	бытия 19-30 по МСК \nСбор на
	чинается в 19-20. Если вы за
	писались\, но не приш
	ли до 19-30\, ваше м
	есто может занять люб
	ой желающий из чата. Требования:
	 \n- Звание от Raider/Warrior и выше\n-
	 Подтвержденный ДПС 26k+ для
	 дд\n- Танк и хил аттестация ранга n
	ormal\n- Табард гильдии\n- Team
	Speak\n- Отметка о пр
	охождении но
	рмал версии 
	триала с гиль
	дией\n(Если вы 
	не соответст
	вуете определ
	енному требовани
	ю\, но уверены\,
	 что хорошо сп
	равитесь со св
	оей задачей\, 
	просьба связаться со
	 мной в игре или на форуме) На
	м потребуются: \n- 1-2 танка
	\n- 2 хила\n- 8-9 дд З
	апись в коммента
	риях обязательна 
	(с указанием ро
	ли и ID\, если он
	 отличается от
	 форумного) Пр
	одолжительность собы
	тия - не более 2 часо
	в (рейд закончится
	 в 21-30 мск незави
	симо от текущег
	о прогресса (возмо
	жны исключения)(и еще
	 одна скобочка))\nСб
	ор\, перекуры\, переку
	сы и т.д. также вхо
	дят в указанные
	 2 часа\, так чт
	о прошу всех приходит
	ь вовремя и подготовленными на все 
	случаи жизни)
DTSTART:20191101T163000Z
END:VEVENT
END:VCALENDAR
