BEGIN:VCALENDAR
VERSION:2.0
PRODID:-//InvisionCommunity Events 4.7.14//EN
METHOD:PUBLISH
CALSCALE:GREGORIAN
REFRESH-INTERVAL:PT15M
X-PUBLISHED-TTL:PT15M
X-WR-CALNAME:The Elder Scrolls Online
NAME:The Elder Scrolls Online
BEGIN:VTIMEZONE
TZID:Europe/London
TZURL:http://tzurl.org/zoneinfo/Europe/London
X-LIC-LOCATION:Europe/London
BEGIN:DAYLIGHT
TZOFFSETFROM:+0000
TZOFFSETTO:+0100
TZNAME:BST
DTSTART:20190331T020000Z
RRULE:FREQ=YEARLY;BYMONTH=3;BYDAY=-1SU
END:DAYLIGHT
BEGIN:STANDARD
TZOFFSETFROM:+0100
TZOFFSETTO:+0000
TZNAME:GMT
DTSTART:20191027T020000Z
RRULE:FREQ=YEARLY;BYMONTH=10;BYDAY=-1SU
END:STANDARD
END:VTIMEZONE
BEGIN:VEVENT
SUMMARY:[TESO] Охота в землях Пакта (0+)
DTSTAMP:20191027T190236Z
SEQUENCE:0
UID:6192-1-afb15bc42254ad5fb0481ce5e9c8144d@forum.bandits-clan.ru
ORGANIZER;CN="Winchester":web@bandits-clan.ru
DESCRIPTION:Приглаша
	ются все 
	желающие 
	поохотиться на 
	мировых боссов н
	а территориях Эб
	онхартского Пакта
	. 19:30 по МСК. План 
	действий таков:Соб
	ираемся в группу и
	 выдвигаемся в 19:3
	0.\nПо-очереди 
	закрываем бо
	ссов одной локации
	\, закрываем дольмены 
	по возможности (ждат
	ь по 10-15 мин их не
	 будем)\nЛетим в
	 следующую лок
	ацию и повторяе
	м процесс.\n\nТребования:Ур
	овень любой\nАльянс любой\nТабард Daggerfall
	 Bandits или Vanguard Bandits\nПрисутствие в Teamspeak\n
DTSTART:20191029T163000Z
ATTENDEE;CN="Winchester";CUTYPE=INDIVIDUAL;PARTSTAT=ACCEPTED
	:web@bandits-clan.ru
ATTENDEE;CN="Alximik37";CUTYPE=INDIVIDUAL;PARTSTAT=ACCEPTED:
	web@bandits-clan.ru
ATTENDEE;CN="AsanAJess";CUTYPE=INDIVIDUAL;PARTSTAT=ACCEPTED:
	web@bandits-clan.ru
END:VEVENT
END:VCALENDAR
