BEGIN:VCALENDAR
VERSION:2.0
PRODID:-//InvisionCommunity Events 4.7.14//EN
METHOD:PUBLISH
CALSCALE:GREGORIAN
REFRESH-INTERVAL:PT15M
X-PUBLISHED-TTL:PT15M
X-WR-CALNAME:The Elder Scrolls Online
NAME:The Elder Scrolls Online
BEGIN:VTIMEZONE
TZID:Europe/London
TZURL:http://tzurl.org/zoneinfo/Europe/London
X-LIC-LOCATION:Europe/London
BEGIN:DAYLIGHT
TZOFFSETFROM:+0000
TZOFFSETTO:+0100
TZNAME:BST
DTSTART:20190331T020000Z
RRULE:FREQ=YEARLY;BYMONTH=3;BYDAY=-1SU
END:DAYLIGHT
BEGIN:STANDARD
TZOFFSETFROM:+0100
TZOFFSETTO:+0000
TZNAME:GMT
DTSTART:20191027T020000Z
RRULE:FREQ=YEARLY;BYMONTH=10;BYDAY=-1SU
END:STANDARD
END:VTIMEZONE
BEGIN:VEVENT
SUMMARY:ПВП Сиродиил \"Arena Gladiator's Proofs\"
DTSTAMP:20191023T130545Z
SEQUENCE:0
UID:6183-1-afb15bc42254ad5fb0481ce5e9c8144d@forum.bandits-clan.ru
ORGANIZER;CN="Anioto":web@bandits-clan.ru
DESCRIPTION:\n--- «Захв
	атить дев
	ять разли
	чных ресурсо
	в» — различных о
	бъектов снабжен
	ия\, контролируемых 
	врагом.\n --- Во вре
	мя забега находи
	тся в ТимСпике (\"
	Обязательно\" д
	ля того что бы усл
	ышать команду\, и
	 вовремя слинять 
	от врага ) но и не заб
	ываем про Табард ги
	льдии.\n Бегаем ---\n\nЗа Ковена
	нт Даггерфол\nКомпания --Bah
	lokdaan--\nЛевел 10+ шмотки по св
	оему усмотрению жестких правил нету.
DTSTART:20191023T160200Z
END:VEVENT
END:VCALENDAR
