BEGIN:VCALENDAR
VERSION:2.0
PRODID:-//InvisionCommunity Events 4.7.14//EN
METHOD:PUBLISH
CALSCALE:GREGORIAN
REFRESH-INTERVAL:PT15M
X-PUBLISHED-TTL:PT15M
X-WR-CALNAME:The Elder Scrolls Online
NAME:The Elder Scrolls Online
BEGIN:VTIMEZONE
TZID:Europe/London
TZURL:http://tzurl.org/zoneinfo/Europe/London
X-LIC-LOCATION:Europe/London
BEGIN:DAYLIGHT
TZOFFSETFROM:+0000
TZOFFSETTO:+0100
TZNAME:BST
DTSTART:20190331T020000Z
RRULE:FREQ=YEARLY;BYMONTH=3;BYDAY=-1SU
END:DAYLIGHT
BEGIN:STANDARD
TZOFFSETFROM:+0100
TZOFFSETTO:+0000
TZNAME:GMT
DTSTART:20191027T020000Z
RRULE:FREQ=YEARLY;BYMONTH=10;BYDAY=-1SU
END:STANDARD
END:VTIMEZONE
BEGIN:VEVENT
SUMMARY:[TESO] учебный vet HOF
DTSTAMP:20191021T033053Z
SEQUENCE:1
UID:6179-1-afb15bc42254ad5fb0481ce5e9c8144d@forum.bandits-clan.ru
ORGANIZER;CN="Zym":web@bandits-clan.ru
DESCRIPTION:Рейд отменен\, по
	тому что ZOS\n \nОт 
	зарождения п
	ерсонажа в тюрьм
	е Хладной гавани.
	.. до тёплых песк
	ов Эльсвейра...
	 к первым шаг
	ам после дотн
	ой меты проше
	л ваш путь. На
	чинается вел
	ичайшая эпох
	а\, которая 
	провела ва
	с от колы
	бели казуал
	а к невыполн
	имым триалам
	.           \
	nХОФ          
	     \n*за время
	 рейда вы не уви
	дите двух вещей:
	 последнего босса 
	и вход в триал\, поэтому 
	скрин входа на картинке)\n**танков выбер
	у сам
DTSTART:20191026T150000Z
END:VEVENT
END:VCALENDAR
