BEGIN:VCALENDAR
VERSION:2.0
PRODID:-//InvisionCommunity Events 4.7.14//EN
METHOD:PUBLISH
CALSCALE:GREGORIAN
REFRESH-INTERVAL:PT15M
X-PUBLISHED-TTL:PT15M
X-WR-CALNAME:The Elder Scrolls Online
NAME:The Elder Scrolls Online
BEGIN:VTIMEZONE
TZID:Europe/London
TZURL:http://tzurl.org/zoneinfo/Europe/London
X-LIC-LOCATION:Europe/London
BEGIN:DAYLIGHT
TZOFFSETFROM:+0000
TZOFFSETTO:+0100
TZNAME:BST
DTSTART:20190331T020000Z
RRULE:FREQ=YEARLY;BYMONTH=3;BYDAY=-1SU
END:DAYLIGHT
BEGIN:STANDARD
TZOFFSETFROM:+0100
TZOFFSETTO:+0000
TZNAME:GMT
DTSTART:20191027T020000Z
RRULE:FREQ=YEARLY;BYMONTH=10;BYDAY=-1SU
END:STANDARD
END:VTIMEZONE
BEGIN:VEVENT
SUMMARY:[TESO] ПВП Сиродиил  \"Arena Gladiator's Proofs\"
DTSTAMP:20191017T092817Z
SEQUENCE:0
UID:6163-1-afb15bc42254ad5fb0481ce5e9c8144d@forum.bandits-clan.ru
ORGANIZER;CN="Anioto":web@bandits-clan.ru
DESCRIPTION:--- «Захв
	атить дев
	ять разли
	чных ресурсо
	в» — различных о
	бъектов снабжени
	я\, контролируемых вр
	агом. \n --- Во время
	 забега находитс
	я в ТимСпике (\"Об
	язательно\" для 
	того что бы услыш
	ать команду\, и в
	овремя слинять от 
	врага ) но и не заб
	ываем про Табард г
	ильдии. \nБегаем ---  За Ковенан
	т Даггерфол \n Компания --Bahlo
	kdaan--\n Левел 10+ шмотки по свое
	му усмотрению жестких правил нету.
DTSTART:20191017T160200Z
ATTENDEE;CN="Keshanberg";CUTYPE=INDIVIDUAL;PARTSTAT=ACCEPTED
	:web@bandits-clan.ru
END:VEVENT
END:VCALENDAR
