BEGIN:VCALENDAR
VERSION:2.0
PRODID:-//InvisionCommunity Events 4.7.14//EN
METHOD:PUBLISH
CALSCALE:GREGORIAN
REFRESH-INTERVAL:PT15M
X-PUBLISHED-TTL:PT15M
X-WR-CALNAME:The Elder Scrolls Online
NAME:The Elder Scrolls Online
BEGIN:VTIMEZONE
TZID:Europe/London
TZURL:http://tzurl.org/zoneinfo/Europe/London
X-LIC-LOCATION:Europe/London
BEGIN:DAYLIGHT
TZOFFSETFROM:+0000
TZOFFSETTO:+0100
TZNAME:BST
DTSTART:20190331T020000Z
RRULE:FREQ=YEARLY;BYMONTH=3;BYDAY=-1SU
END:DAYLIGHT
BEGIN:STANDARD
TZOFFSETFROM:+0100
TZOFFSETTO:+0000
TZNAME:GMT
DTSTART:20191027T020000Z
RRULE:FREQ=YEARLY;BYMONTH=10;BYDAY=-1SU
END:STANDARD
END:VTIMEZONE
BEGIN:VEVENT
SUMMARY:[TESO] Обучающий триал vet AS
DTSTAMP:20191013T064901Z
SEQUENCE:1
UID:6136-1-afb15bc42254ad5fb0481ce5e9c8144d@forum.bandits-clan.ru
ORGANIZER;CN="Ghost_77":web@bandits-clan.ru
DESCRIPTION:Рейд лидер - Zym Обучающи
	й ветеранский триал AS (Asylum sanctorium)\nТреб
	уется DLC \"Clockwork City'' (З
	аводной город) ил
	и наличие подписки Нача
	ло события 19-30 по МСК\nСб
	ор начинается в 19-20. Если 
	вы записались\, но не
	 пришли до 19-30\, 
	ваше место может
	 занять любой желающий из ч
	ата. Требования:\n- Звание от 
	Bandit/Guard и выше\n- Подтвержд
	енный ДПС 30к+ для дд\n- Та
	нк и хил аттестация ранга normal\
	n- Табард гильдии\n- TeamS
	peak\n- Отметка о пр
	охождении но
	рмал версии 
	триала с гиль
	дией\n(Если вы 
	не соответст
	вуете определ
	енному требовани
	ю\, но уверены\,
	 что хорошо сп
	равитесь со сво
	ей задачей\, просьба с
	вязаться со мной) Нам пот
	ребуются:\n- 1 танк\n- 2
	 хила\n- 9 дд Запись 
	в комментариях об
	язательна (с ука
	занием роли и 
	ID\, если он от
	личается от фо
	румного) Продол
	жительность события 
	- не более 2 часов (р
	ейд закончится в
	 21-30 мск независ
	имо от текущего
	 прогресса (возможн
	ы исключения)(и еще о
	дна скобочка))\nСбо
	р\, перекуры\, перекус
	ы и т.д. также вход
	ят в указанные 
	2 часа\, так чт
	о прошу всех приходит
	ь вовремя и подготовленными на все 
	случаи жизни)
DTSTART:20191018T163000Z
END:VEVENT
END:VCALENDAR
