BEGIN:VCALENDAR
VERSION:2.0
PRODID:-//InvisionCommunity Events 4.7.14//EN
METHOD:PUBLISH
CALSCALE:GREGORIAN
REFRESH-INTERVAL:PT15M
X-PUBLISHED-TTL:PT15M
X-WR-CALNAME:The Elder Scrolls Online
NAME:The Elder Scrolls Online
BEGIN:VTIMEZONE
TZID:Europe/London
TZURL:http://tzurl.org/zoneinfo/Europe/London
X-LIC-LOCATION:Europe/London
BEGIN:DAYLIGHT
TZOFFSETFROM:+0000
TZOFFSETTO:+0100
TZNAME:BST
DTSTART:20190331T020000Z
RRULE:FREQ=YEARLY;BYMONTH=3;BYDAY=-1SU
END:DAYLIGHT
BEGIN:STANDARD
TZOFFSETFROM:+0100
TZOFFSETTO:+0000
TZNAME:GMT
DTSTART:20191027T020000Z
RRULE:FREQ=YEARLY;BYMONTH=10;BYDAY=-1SU
END:STANDARD
END:VTIMEZONE
BEGIN:VEVENT
SUMMARY:[TESO] Воскресная арена. vDSA
DTSTAMP:20191006T220336Z
SEQUENCE:1
UID:6094-1-afb15bc42254ad5fb0481ce5e9c8144d@forum.bandits-clan.ru
ORGANIZER;CN="mrachny":web@bandits-clan.ru
DESCRIPTION:Ветеранская Dragonsta
	r Arena. Приглашаю
	 желающих пр
	ойти данную ар
	ену. В случае успех
	а получаем уникальное ору
	жие. Начало в 19-00 мск\, с
	бор в 18-50 мск. Зап
	ись в комментария
	х\, приоритет в п
	орядке очереди 
	и для тех\, кто 
	не имеет отметк
	и о прохождении
	 арены. Я могу пойти н
	а танке или дд\, поэт
	ому нам понадобятся:\n- 1 хил
	 (меч+щит с прокачанным скилом Pierce 
	Armor либо Inner Rage для ласта)\n- 1-2 дд
	\n- 0-1 танк (умение п
	рожить 2 минуты
	 без хила\, уме
	ние стягива
	ть и ставит
	ь мобов в 
	корни) Требован
	ия (прошу неукоснитель
	но соблюдать следующие пун
	кты):\n- 333+cp\n- подтвержденный ДПС 2
	6к+ для дд\n- 17к hp min для хила и дд\n
	- танк с аттестацией Veteran
	+\n- хил с аттестацией V
	eteran+ Продолжительн
	ость события - 
	не более 3 часов\, вне зависимости от 
	достигнутого прогресса.
DTSTART:20191013T160000Z
END:VEVENT
END:VCALENDAR
