BEGIN:VCALENDAR
VERSION:2.0
PRODID:-//InvisionCommunity Events 4.7.14//EN
METHOD:PUBLISH
CALSCALE:GREGORIAN
REFRESH-INTERVAL:PT15M
X-PUBLISHED-TTL:PT15M
X-WR-CALNAME:The Elder Scrolls Online
NAME:The Elder Scrolls Online
BEGIN:VTIMEZONE
TZID:Europe/London
TZURL:http://tzurl.org/zoneinfo/Europe/London
X-LIC-LOCATION:Europe/London
BEGIN:DAYLIGHT
TZOFFSETFROM:+0000
TZOFFSETTO:+0100
TZNAME:BST
DTSTART:20190331T020000Z
RRULE:FREQ=YEARLY;BYMONTH=3;BYDAY=-1SU
END:DAYLIGHT
BEGIN:STANDARD
TZOFFSETFROM:+0100
TZOFFSETTO:+0000
TZNAME:GMT
DTSTART:20191027T020000Z
RRULE:FREQ=YEARLY;BYMONTH=10;BYDAY=-1SU
END:STANDARD
END:VTIMEZONE
BEGIN:VEVENT
SUMMARY:[TESO] vHOF обучалка
DTSTAMP:20191001T133626Z
SEQUENCE:2
UID:6083-1-afb15bc42254ad5fb0481ce5e9c8144d@forum.bandits-clan.ru
ORGANIZER;CN="dreemspot":web@bandits-clan.ru
DESCRIPTION:В 15.00 по Москов
	скому времени. Пригла
	шаю 12 человек – 2 тан
	ка\, 2 хила\, 8 дд
	 (Обязательна отметк
	а о прохождении нормал
	 версии триала (мод DBGN)\, у дд 
	обязателен ДПС от 26к+) в зван
	ии Raider/Warrior\, для прохождения т
	риала: Залы Фабрикации / Halls of Fabr
	ication [vHoF] Необходимо DLC – Морровин
	д / Morrowind. При себе иметь: Team
	Speak (хотя бы возможнос
	ть слушать)\, Таба
	рд\, ремкомплекты
	\, еду!\nДля наи
	большего уд
	обства в освоен
	ии контента\, советую заране
	е установить такие моды как Bandits User Inte
	rface / RaidNotifier. Данные м
	оды показыва
	ют атаки босс
	ов и что нуж
	но делать 
	в случае ис
	пользования их
	 боссами. В комм
	ентариях указыв
	айте свою роль и 
	игровой id.\nНа событи
	е приходите заране
	е\, сборы начинаются 
	за 10-15 мин. до назн
	аченного врем
	ени\, в противном
	 случае\, ваше
	 место уйдет 
	другому желаю
	щему. Так же н
	е забывайте 
	нажимать на кнопку «ПОЙ
	ДУ»! Набор в группу осуществляется по к
	нопке!
DTSTART:20191005T120000Z
ATTENDEE;CN="dreemspot";CUTYPE=INDIVIDUAL;PARTSTAT=ACCEPTED:
	web@bandits-clan.ru
ATTENDEE;CN="botannik";CUTYPE=INDIVIDUAL;PARTSTAT=ACCEPTED:w
	eb@bandits-clan.ru
ATTENDEE;CN="Agathus";CUTYPE=INDIVIDUAL;PARTSTAT=ACCEPTED:we
	b@bandits-clan.ru
ATTENDEE;CN="BadassLoaderBot";CUTYPE=INDIVIDUAL;PARTSTAT=ACC
	EPTED:web@bandits-clan.ru
ATTENDEE;CN="CannibalYeti";CUTYPE=INDIVIDUAL;PARTSTAT=ACCEPT
	ED:web@bandits-clan.ru
ATTENDEE;CN="Vadenberg";CUTYPE=INDIVIDUAL;PARTSTAT=ACCEPTED:
	web@bandits-clan.ru
ATTENDEE;CN="Lesrtak";CUTYPE=INDIVIDUAL;PARTSTAT=ACCEPTED:we
	b@bandits-clan.ru
ATTENDEE;CN="Radaella";CUTYPE=INDIVIDUAL;PARTSTAT=ACCEPTED:w
	eb@bandits-clan.ru
ATTENDEE;CN="Fleche";CUTYPE=INDIVIDUAL;PARTSTAT=ACCEPTED:web
	@bandits-clan.ru
ATTENDEE;CN="@K0RVINUS";CUTYPE=INDIVIDUAL;PARTSTAT=ACCEPTED:
	web@bandits-clan.ru
ATTENDEE;CN="Kress";CUTYPE=INDIVIDUAL;PARTSTAT=ACCEPTED:web@
	bandits-clan.ru
END:VEVENT
END:VCALENDAR
