BEGIN:VCALENDAR
VERSION:2.0
PRODID:-//InvisionCommunity Events 4.7.14//EN
METHOD:PUBLISH
CALSCALE:GREGORIAN
REFRESH-INTERVAL:PT15M
X-PUBLISHED-TTL:PT15M
X-WR-CALNAME:The Elder Scrolls Online
NAME:The Elder Scrolls Online
BEGIN:VTIMEZONE
TZID:Europe/London
TZURL:http://tzurl.org/zoneinfo/Europe/London
X-LIC-LOCATION:Europe/London
BEGIN:DAYLIGHT
TZOFFSETFROM:+0000
TZOFFSETTO:+0100
TZNAME:BST
DTSTART:20190331T020000Z
RRULE:FREQ=YEARLY;BYMONTH=3;BYDAY=-1SU
END:DAYLIGHT
BEGIN:STANDARD
TZOFFSETFROM:+0100
TZOFFSETTO:+0000
TZNAME:GMT
DTSTART:20191027T020000Z
RRULE:FREQ=YEARLY;BYMONTH=10;BYDAY=-1SU
END:STANDARD
END:VTIMEZONE
BEGIN:VEVENT
SUMMARY:[TESO] Воскресная арена. vBRP
DTSTAMP:20191001T073349Z
SEQUENCE:0
UID:6082-1-afb15bc42254ad5fb0481ce5e9c8144d@forum.bandits-clan.ru
ORGANIZER;CN="mrachny":web@bandits-clan.ru
DESCRIPTION:\nВетеранская Blackrose Prison A
	rena.\n\nПриглашаю 
	желающих прой
	ти данную арену.
	 В случае успех
	а получаем ск
	ин\, уникально
	е оружие\, а так
	же листочек довольно
	 интересного и дорогого мотива
	.\n\nНачало в 20-00 мск\, сбор 
	в 19-50 мск. Запись 
	в комментариях\,
	 приоритет в по
	рядке очереди и для
	 тех\, кто не имеет 
	отметки о прохожде
	нии арены.\n\nЯ могу по
	йти на танке или дд\,
	 поэтому нам понадобятся
	:\n- 1 хил (Олориме + менди
	нг / твр / сенкчуари / ворм\;
	 чокторн / симфония). Пу
	рдж!\n- 1-2 дд (хорош
	ий аое урон + возможнос
	ть переключиться на соло
	 цель)\n- 0-1 танк (эбон 
	+ дракон / йолн
	акрин). Умение 
	стягивать мобо
	в. Умение стак
	ать ренжовых
	 мобов.\n\nТребо
	вания (прошу неукос
	нительно соблюдать следующие пункты
	):\n- наличие DLC Murkmire\n- 600+cp\n- подт
	вержденный ДПС 40к+ для дд\n- 
	18к hp min для хила и дд\n- танк
	 с аттестацией Master\n- хил 
	с аттестацией Vetera
	n+\n- обязательное ознакомле
	ние с механиками\, например тут http://forum.band
	its...showtopic=66044\n\nПродолжител
	ьность события 
	- не более 3 часов\, вне зависимости
	 от достигнутого прогресса.
DTSTART:20191006T170000Z
END:VEVENT
END:VCALENDAR
