BEGIN:VCALENDAR
VERSION:2.0
PRODID:-//InvisionCommunity Events 4.7.14//EN
METHOD:PUBLISH
CALSCALE:GREGORIAN
REFRESH-INTERVAL:PT15M
X-PUBLISHED-TTL:PT15M
X-WR-CALNAME:The Elder Scrolls Online
NAME:The Elder Scrolls Online
BEGIN:VTIMEZONE
TZID:Europe/London
TZURL:http://tzurl.org/zoneinfo/Europe/London
X-LIC-LOCATION:Europe/London
BEGIN:DAYLIGHT
TZOFFSETFROM:+0000
TZOFFSETTO:+0100
TZNAME:BST
DTSTART:20190331T020000Z
RRULE:FREQ=YEARLY;BYMONTH=3;BYDAY=-1SU
END:DAYLIGHT
BEGIN:STANDARD
TZOFFSETFROM:+0100
TZOFFSETTO:+0000
TZNAME:GMT
DTSTART:20191027T020000Z
RRULE:FREQ=YEARLY;BYMONTH=10;BYDAY=-1SU
END:STANDARD
END:VTIMEZONE
BEGIN:VEVENT
SUMMARY:[TESO] Обучающий нормал триал Краг
	лорна
DTSTAMP:20190930T064912Z
SEQUENCE:0
UID:6071-1-afb15bc42254ad5fb0481ce5e9c8144d@forum.bandits-clan.ru
ORGANIZER;CN="Winchester":web@bandits-clan.ru
DESCRIPTION:Что? Aetherian Archive / Hel Ra Citadel / Sanctum Ophidia
	 - normal mode - на выбор и по нуждам группы.\nГд
	е? Grand Topal Hideaway. Для того\,
	 чтобы туда попасть\
	, необходимо в ростере 
	Гильдии найти @Kibert и посе
	тить её дом.\nКогда?
	 Начало события: 19
	:30 по мск. Ориен
	тировочная д
	лительность 
	события: 1 ч
	ас. Цель:
	 обучить
	 новичков так
	тике прохождения триал
	ов. Требования:Минимальное
	 звание: Thief/Soldier\nМинимал
	ьный уровень: 160 cp\nОдетая накидка Гильди
	и Daggerfall/Vanguard Bandits\nTeamSpeak\n \nВ
	 случае успе
	шного прохо
	ждения\, вс
	ем прошедши
	м будет поставл
	ена отметка в списке
	 представителей Гиль
	дии. 1 танк\, 2 хила
	\, 9 дд будут для
	 нас идеальны
	м составом. Пр
	иоритет для игро
	ков\, которые ни 
	разу не посещ
	али триал и т
	ех\, кому не
	обходима отметк
	а о прохождении. П
	ишите в комментария
	х свою роль и Ваш Use
	rID. Приходите заранее\, берегите св
	ои и чужие нервы.
DTSTART:20191001T163000Z
ATTENDEE;CN="Winchester";CUTYPE=INDIVIDUAL;PARTSTAT=ACCEPTED
	:web@bandits-clan.ru
ATTENDEE;CN="Janaaki";CUTYPE=INDIVIDUAL;PARTSTAT=ACCEPTED:we
	b@bandits-clan.ru
ATTENDEE;CN="Kress";CUTYPE=INDIVIDUAL;PARTSTAT=ACCEPTED:web@
	bandits-clan.ru
ATTENDEE;CN="DAK";CUTYPE=INDIVIDUAL;PARTSTAT=ACCEPTED:web@ba
	ndits-clan.ru
ATTENDEE;CN="CannibalYeti";CUTYPE=INDIVIDUAL;PARTSTAT=ACCEPT
	ED:web@bandits-clan.ru
ATTENDEE;CN="Meteora";CUTYPE=INDIVIDUAL;PARTSTAT=ACCEPTED:we
	b@bandits-clan.ru
ATTENDEE;CN="CyXaPbMAHA";CUTYPE=INDIVIDUAL;PARTSTAT=ACCEPTED
	:web@bandits-clan.ru
ATTENDEE;CN="ImMaxDaDude";CUTYPE=INDIVIDUAL;PARTSTAT=ACCEPTE
	D:web@bandits-clan.ru
ATTENDEE;CN="Burime";CUTYPE=INDIVIDUAL;PARTSTAT=ACCEPTED:web
	@bandits-clan.ru
END:VEVENT
END:VCALENDAR
