BEGIN:VCALENDAR
VERSION:2.0
PRODID:-//InvisionCommunity Events 4.7.14//EN
METHOD:PUBLISH
CALSCALE:GREGORIAN
REFRESH-INTERVAL:PT15M
X-PUBLISHED-TTL:PT15M
X-WR-CALNAME:The Elder Scrolls Online
NAME:The Elder Scrolls Online
BEGIN:VTIMEZONE
TZID:Europe/London
TZURL:http://tzurl.org/zoneinfo/Europe/London
X-LIC-LOCATION:Europe/London
BEGIN:DAYLIGHT
TZOFFSETFROM:+0000
TZOFFSETTO:+0100
TZNAME:BST
DTSTART:20190331T020000Z
RRULE:FREQ=YEARLY;BYMONTH=3;BYDAY=-1SU
END:DAYLIGHT
BEGIN:STANDARD
TZOFFSETFROM:+0100
TZOFFSETTO:+0000
TZNAME:GMT
DTSTART:20191027T020000Z
RRULE:FREQ=YEARLY;BYMONTH=10;BYDAY=-1SU
END:STANDARD
END:VTIMEZONE
BEGIN:VEVENT
SUMMARY:[TESO] Фармовый nMoL
DTSTAMP:20190930T064145Z
SEQUENCE:2
UID:6069-1-afb15bc42254ad5fb0481ce5e9c8144d@forum.bandits-clan.ru
ORGANIZER;CN="Winchester":web@bandits-clan.ru
DESCRIPTION:Normal Maw of Lorkhaj Падают сле
	дующие полезные сеты:\nLunar Bast
	ion - ситуативный сет для танк
	ов\;\nMoondancer - ситуативный сет для мана
	 ДД\;\nRoar of Alkosh - сет для
	 танков (необход
	им для серьезно
	й игры на роли танка)\
	, в некоторых рейдах используе
	тся на стам ДД\;\nTwilight Reme
	dy - ситуативный сет для хи
	лов\; Нам потребуются:\
	n1 танк.\n2 хила.\n9 дд.\n
	Обязательно на
	жмите кнопку \
	"Пойду\" и укажите
	 свою роль в комме
	нтарии. Требования:Нали
	чие DLC \"Гильдия воров\" или подписки
	 ESO+\;\nЗвание Raider/Warrior и в
	ыше\;\nНаличие отметки о прохо
	ждении обучающего nMoL\;\nTeams
	peak\;\nТабард гильдии
	.\n\nЭто не обучаю
	щий триал\, отм
	еток выставлят
	ься не будет\, з
	нание тактики обязате
	льно.\nСбор будет в гил
	ьдхолле\, начало в 12:
	30\, планируется миним
	ум 2 забега\, далее
	 по желанию группы. \nТ
	ы танк\, который хочет выбить
	 что-то из сета Roar of Alkosh? Напиши об этом
	 в теме: http://forum.bandits-clan.ru/index.php?showtopic=66
	200 Если кто-то 
	желает освеж
	ить память пер
	ед походом\, вот тут е
	сть отличное описание триала и его мех
	аник: http://forum.bandits-clan.ru/index.php?showtopic=64833
	\nА если коротко:\nПрио
	ритет фокуса мобов - Маги 
	(солнцеед) &gt\; Лучники &gt\
	; Милишники\n1 босс - 
	танк стоит на руне\
	, хилы хилят\, ДД залив
	ают босса дамагом\, 
	все просто.\n2 босс -
	 танк в центре\, ос
	тальные делятся на 
	две группы\, первая сле
	ва\, в ней хил и 4 ДД (мил
	ишники все в ней)\, вт
	орая справа\, в ней х
	ил и 5 рейнж ДД. Ка
	ждый бьет своего 
	босса\, когда на
	 кого-то падает 
	свет или тень
	\, он начинает 
	бить определенн
	ого босса\, против
	оположного эффекту\,
	 те на ком тень\, бь
	ют светлого\, те
	 на ком свет - те
	много. Сближатьс
	я игрокам с разн
	ыми цветами нел
	ьзя\, то есть не
	 бегаем\, не 
	ресаем проти
	воположную гр
	уппу. КОгда б
	оссы разлетаю
	тся по стенам\,
	 каждый игрок б
	ежит к противопо
	ложному цвету\, 
	светлые к темно
	му\, темные к светл
	ому\, происходит в
	зрыв и цвета игрок
	ов меняются\, те\,
	 кто были светлы
	ми - станут тем
	ными и наоборот\,
	 соответственно\, 
	боссами группы мен
	яются.\n3 босс (посл
	едний) - танк де
	ржит его на пер
	вой платформе\,
	 когда она стан
	овится синей\, 
	переходит на сл
	едующую и так дал
	ее. Когда босс пры
	гает в центр - доб
	иваем его\, влив
	ая максимум дамага.\nВсё. Подробнее в вид
	ео по ссылке выше. 
DTSTART:20191006T093000Z
ATTENDEE;CN="Winchester";CUTYPE=INDIVIDUAL;PARTSTAT=ACCEPTED
	:web@bandits-clan.ru
ATTENDEE;CN="Geluriel";CUTYPE=INDIVIDUAL;PARTSTAT=ACCEPTED:w
	eb@bandits-clan.ru
ATTENDEE;CN="Janaaki";CUTYPE=INDIVIDUAL;PARTSTAT=ACCEPTED:we
	b@bandits-clan.ru
ATTENDEE;CN="RichiFromHell";CUTYPE=INDIVIDUAL;PARTSTAT=ACCEP
	TED:web@bandits-clan.ru
ATTENDEE;CN="dkster";CUTYPE=INDIVIDUAL;PARTSTAT=ACCEPTED:web
	@bandits-clan.ru
ATTENDEE;CN="LawOfJulia";CUTYPE=INDIVIDUAL;PARTSTAT=ACCEPTED
	:web@bandits-clan.ru
ATTENDEE;CN="awoub";CUTYPE=INDIVIDUAL;PARTSTAT=ACCEPTED:web@
	bandits-clan.ru
ATTENDEE;CN="JoraRUS";CUTYPE=INDIVIDUAL;PARTSTAT=ACCEPTED:we
	b@bandits-clan.ru
ATTENDEE;CN="podnebesniivolk";CUTYPE=INDIVIDUAL;PARTSTAT=ACC
	EPTED:web@bandits-clan.ru
END:VEVENT
END:VCALENDAR
