BEGIN:VCALENDAR
VERSION:2.0
PRODID:-//InvisionCommunity Events 4.7.14//EN
METHOD:PUBLISH
CALSCALE:GREGORIAN
REFRESH-INTERVAL:PT15M
X-PUBLISHED-TTL:PT15M
X-WR-CALNAME:The Elder Scrolls Online
NAME:The Elder Scrolls Online
BEGIN:VTIMEZONE
TZID:Europe/London
TZURL:http://tzurl.org/zoneinfo/Europe/London
X-LIC-LOCATION:Europe/London
BEGIN:DAYLIGHT
TZOFFSETFROM:+0000
TZOFFSETTO:+0100
TZNAME:BST
DTSTART:20190331T020000Z
RRULE:FREQ=YEARLY;BYMONTH=3;BYDAY=-1SU
END:DAYLIGHT
BEGIN:STANDARD
TZOFFSETFROM:+0100
TZOFFSETTO:+0000
TZNAME:GMT
DTSTART:20191027T020000Z
RRULE:FREQ=YEARLY;BYMONTH=10;BYDAY=-1SU
END:STANDARD
END:VTIMEZONE
BEGIN:VEVENT
SUMMARY:[TESO] Охота в землях Краглорна (0+)
DTSTAMP:20190930T063738Z
SEQUENCE:2
UID:6067-1-afb15bc42254ad5fb0481ce5e9c8144d@forum.bandits-clan.ru
ORGANIZER;CN="Winchester":web@bandits-clan.ru
DESCRIPTION:Приглаша
	ются все же
	лающие поо
	хотиться на мир
	овых боссов и закр
	ыть вылазки на те
	рритории Краглорн
	а. 19:30 по МСК. Пла
	н действий таков:Со
	бираемся в группу и 
	выдвигаемся в 19:30.\n
	По-очереди зак
	рываем боссов\,
	 закрываем вылазки.
	\n\nТребования:Уровень любой\nАл
	ьянс любой\nТабард Daggerfall Bandits или Va
	nguard Bandits\nПрисутствие в Teamspeak\n
DTSTART:20191003T163000Z
ATTENDEE;CN="Winchester";CUTYPE=INDIVIDUAL;PARTSTAT=ACCEPTED
	:web@bandits-clan.ru
ATTENDEE;CN="Daiver";CUTYPE=INDIVIDUAL;PARTSTAT=ACCEPTED:web
	@bandits-clan.ru
ATTENDEE;CN="Aquarius";CUTYPE=INDIVIDUAL;PARTSTAT=ACCEPTED:w
	eb@bandits-clan.ru
ATTENDEE;CN="DAK";CUTYPE=INDIVIDUAL;PARTSTAT=ACCEPTED:web@ba
	ndits-clan.ru
ATTENDEE;CN="Burime";CUTYPE=INDIVIDUAL;PARTSTAT=ACCEPTED:web
	@bandits-clan.ru
ATTENDEE;CN="Keshanberg";CUTYPE=INDIVIDUAL;PARTSTAT=ACCEPTED
	:web@bandits-clan.ru
END:VEVENT
END:VCALENDAR
