BEGIN:VCALENDAR
VERSION:2.0
PRODID:-//InvisionCommunity Events 4.7.14//EN
METHOD:PUBLISH
CALSCALE:GREGORIAN
REFRESH-INTERVAL:PT15M
X-PUBLISHED-TTL:PT15M
X-WR-CALNAME:The Elder Scrolls Online
NAME:The Elder Scrolls Online
BEGIN:VTIMEZONE
TZID:Europe/London
TZURL:http://tzurl.org/zoneinfo/Europe/London
X-LIC-LOCATION:Europe/London
BEGIN:DAYLIGHT
TZOFFSETFROM:+0000
TZOFFSETTO:+0100
TZNAME:BST
DTSTART:20190331T020000Z
RRULE:FREQ=YEARLY;BYMONTH=3;BYDAY=-1SU
END:DAYLIGHT
BEGIN:STANDARD
TZOFFSETFROM:+0100
TZOFFSETTO:+0000
TZNAME:GMT
DTSTART:20191027T020000Z
RRULE:FREQ=YEARLY;BYMONTH=10;BYDAY=-1SU
END:STANDARD
END:VTIMEZONE
BEGIN:VEVENT
SUMMARY:[TESO] Статик открытый рейд Дальни
	й Восток
DTSTAMP:20190930T011203Z
SEQUENCE:2
UID:6057-1-afb15bc42254ad5fb0481ce5e9c8144d@forum.bandits-clan.ru
ORGANIZER;CN="FearFur":web@bandits-clan.ru
DESCRIPTION:\nДальневост
	очный статик \"Л
	енивые тигры\
	" приглашает в
	 свои ряды всех кто 
	играет по дальнево
	сточному прайм-тайму!\
	nСбор с 14:00 мск\, прод
	олжительность с
	обытия 2-3 часа. Б
	ыть в тс и гильдхо
	ле в Бандитских таба
	рдах\, рейд эквипе\, 
	с бустами (еда\, бан
	ки) и рем компле
	ктами\, и хороши
	м настроением.  \n
	Требования: подт
	вержденный дпс для
	 дд от 35к\, атте
	стация хила/танк
	а от ветеран\, оп
	ыт рейдов приве
	тствуется.\n\nЕс
	ли вы готовы к 
	рейдам нескол
	ько раз в неделю
	 на результат\, ста
	бильны и хотите закрывать
	 контент - мы ждем вас!\n\nТема статика\nhttp:/
	/forum.bandits...&amp\;st=0&amp\;p=1147446
DTSTART:20191018T110000Z
ATTENDEE;CN="FearFur";CUTYPE=INDIVIDUAL;PARTSTAT=ACCEPTED:we
	b@bandits-clan.ru
ATTENDEE;CN="shaverma";CUTYPE=INDIVIDUAL;PARTSTAT=ACCEPTED:w
	eb@bandits-clan.ru
END:VEVENT
END:VCALENDAR
