BEGIN:VCALENDAR
VERSION:2.0
PRODID:-//InvisionCommunity Events 4.7.14//EN
METHOD:PUBLISH
CALSCALE:GREGORIAN
REFRESH-INTERVAL:PT15M
X-PUBLISHED-TTL:PT15M
X-WR-CALNAME:The Elder Scrolls Online
NAME:The Elder Scrolls Online
BEGIN:VTIMEZONE
TZID:Europe/London
TZURL:http://tzurl.org/zoneinfo/Europe/London
X-LIC-LOCATION:Europe/London
BEGIN:DAYLIGHT
TZOFFSETFROM:+0000
TZOFFSETTO:+0100
TZNAME:BST
DTSTART:20190331T020000Z
RRULE:FREQ=YEARLY;BYMONTH=3;BYDAY=-1SU
END:DAYLIGHT
BEGIN:STANDARD
TZOFFSETFROM:+0100
TZOFFSETTO:+0000
TZNAME:GMT
DTSTART:20191027T020000Z
RRULE:FREQ=YEARLY;BYMONTH=10;BYDAY=-1SU
END:STANDARD
END:VTIMEZONE
BEGIN:VEVENT
SUMMARY:[TESO] Статик открытый рейд Даль
	ний Восток(Vet SS)
DTSTAMP:20190930T011118Z
SEQUENCE:2
UID:6056-1-afb15bc42254ad5fb0481ce5e9c8144d@forum.bandits-clan.ru
ORGANIZER;CN="FearFur":web@bandits-clan.ru
DESCRIPTION:Дальневосто
	чный статик \"Ле
	нивые тигры\"
	 приглашает в 
	свои ряды всех кто 
	играет по дальнево
	сточному прайм-тайму!\
	nСбор с 14:00 мск\, прод
	олжительность с
	обытия 2-3 часа. Б
	ыть в тс и гильдхо
	ле в Бандитских таба
	рдах\, рейд эквипе\, 
	с бустами (еда\, ба
	нки) и рем комп
	лектами\, и хор
	ошим настроением.
	 \nТребования: под
	твержденный дпс дл
	я дд от 35к\, атт
	естация хила
	/танка от вете
	ран\, опыт рей
	дов приветст
	вуется. Если в
	ы готовы к рей
	дам несколько
	 раз в неделю на
	 результат\, ст
	абильны и хотите закрыв
	ать контент - мы ждем вас! Тема статика\nht
	tp://forum.bandits...&amp\;st=0&amp\;p=1147446
DTSTART:20191016T110000Z
ATTENDEE;CN="FearFur";CUTYPE=INDIVIDUAL;PARTSTAT=ACCEPTED:we
	b@bandits-clan.ru
ATTENDEE;CN="masserat";CUTYPE=INDIVIDUAL;PARTSTAT=ACCEPTED:w
	eb@bandits-clan.ru
ATTENDEE;CN="Kratos855";CUTYPE=INDIVIDUAL;PARTSTAT=ACCEPTED:
	web@bandits-clan.ru
END:VEVENT
END:VCALENDAR
