BEGIN:VCALENDAR
VERSION:2.0
PRODID:-//InvisionCommunity Events 4.7.14//EN
METHOD:PUBLISH
CALSCALE:GREGORIAN
REFRESH-INTERVAL:PT15M
X-PUBLISHED-TTL:PT15M
X-WR-CALNAME:The Elder Scrolls Online
NAME:The Elder Scrolls Online
BEGIN:VTIMEZONE
TZID:Europe/London
TZURL:http://tzurl.org/zoneinfo/Europe/London
X-LIC-LOCATION:Europe/London
BEGIN:DAYLIGHT
TZOFFSETFROM:+0000
TZOFFSETTO:+0100
TZNAME:BST
DTSTART:20190331T020000Z
RRULE:FREQ=YEARLY;BYMONTH=3;BYDAY=-1SU
END:DAYLIGHT
BEGIN:STANDARD
TZOFFSETFROM:+0100
TZOFFSETTO:+0000
TZNAME:GMT
DTSTART:20191027T020000Z
RRULE:FREQ=YEARLY;BYMONTH=10;BYDAY=-1SU
END:STANDARD
END:VTIMEZONE
BEGIN:VEVENT
SUMMARY:(TESO) Арена и данжи для новичков
DTSTAMP:20190930T002356Z
SEQUENCE:0
UID:6050-1-afb15bc42254ad5fb0481ce5e9c8144d@forum.bandits-clan.ru
ORGANIZER;CN="Bandit":web@bandits-clan.ru
DESCRIPTION:С 10 утра п
	о Мск Прохо
	дим любой вете
	ранский данж или 
	Драгонстар Арену на в
	аш выбор. Нужно: 4 челов
	ека - танк\, хилер\, 
	два дд (трое кр
	оме меня\, я мог
	у исполнять любую
	 роль). Минимальные 
	требования: звание Thie
	f+ (регистрация на форуме
	\, тимспик). А также: \nВе
	теранские данжи - 160+ Чемпи
	онских очков (ЧП)\, Город пеп
	ла 2 - от 260 ЧП\, данжи с
	 DLC (Руины Маззатун
	а\, Тюрьма Имперского горо
	да\, Владение Фолкрит и т.д.
	) - от 500 ЧП\, дпс от 25к. Нор
	мал Драгонстар Аре
	на - от 10 лвл\, без подтве
	ржденного дпс-теста\; вет
	еран - от 500 ЧП (дпс 26к+ для дд\, неумир
	ающий танк)
DTSTART:20191013T070000Z
ATTENDEE;CN="Bandit";CUTYPE=INDIVIDUAL;PARTSTAT=ACCEPTED:web
	@bandits-clan.ru
ATTENDEE;CN="Janaaki";CUTYPE=INDIVIDUAL;PARTSTAT=ACCEPTED:we
	b@bandits-clan.ru
ATTENDEE;CN="Ganler";CUTYPE=INDIVIDUAL;PARTSTAT=ACCEPTED:web
	@bandits-clan.ru
ATTENDEE;CN="VladRevenant";CUTYPE=INDIVIDUAL;PARTSTAT=ACCEPT
	ED:web@bandits-clan.ru
ATTENDEE;CN="Vadenberg";CUTYPE=INDIVIDUAL;PARTSTAT=ACCEPTED:
	web@bandits-clan.ru
END:VEVENT
END:VCALENDAR
