BEGIN:VCALENDAR
VERSION:2.0
PRODID:-//InvisionCommunity Events 4.7.14//EN
METHOD:PUBLISH
CALSCALE:GREGORIAN
REFRESH-INTERVAL:PT15M
X-PUBLISHED-TTL:PT15M
X-WR-CALNAME:The Elder Scrolls Online
NAME:The Elder Scrolls Online
BEGIN:VTIMEZONE
TZID:Europe/London
TZURL:http://tzurl.org/zoneinfo/Europe/London
X-LIC-LOCATION:Europe/London
BEGIN:DAYLIGHT
TZOFFSETFROM:+0000
TZOFFSETTO:+0100
TZNAME:BST
DTSTART:20190331T020000Z
RRULE:FREQ=YEARLY;BYMONTH=3;BYDAY=-1SU
END:DAYLIGHT
BEGIN:STANDARD
TZOFFSETFROM:+0100
TZOFFSETTO:+0000
TZNAME:GMT
DTSTART:20191027T020000Z
RRULE:FREQ=YEARLY;BYMONTH=10;BYDAY=-1SU
END:STANDARD
END:VTIMEZONE
BEGIN:VEVENT
SUMMARY:[TESO] Обучающий триал vet SS
DTSTAMP:20190927T174715Z
SEQUENCE:1
UID:6042-1-afb15bc42254ad5fb0481ce5e9c8144d@forum.bandits-clan.ru
ORGANIZER;CN="Ghost_77":web@bandits-clan.ru
DESCRIPTION:Обучающий ветеранск
	ий триал SS (Sunspire)\nТребует
	ся наличие главы Els
	weyr\nЕсли соберетс
	я сильная группа\, 
	пробежим пару раз Начал
	о события 19-30 по МСК\nСбо
	р начинается в 19-20. Если в
	ы записались\, но не 
	пришли до 19-30\, 
	ваше место может
	 занять любой желающий из ч
	ата. Требования:\n- Звание от 
	Bandit/Guard и выше\n- Подтвержд
	енный ДПС 35к+ для дд\n- Тан
	к и хил аттестация ранга veteran\n
	- Табард гильдии\n- TeamS
	peak\n- Отметка о пр
	охождении но
	рмал версии 
	триала с гиль
	дией\n(Если вы 
	не соответст
	вуете определ
	енному требовани
	ю\, но уверены\,
	 что хорошо сп
	равитесь со св
	оей задачей\, прос
	ьба связаться со
	 мной в игре или
	 на форуме)\n!В 
	случае грубы
	х и многократ
	ных нарушений
	 механик триал
	а\, рл оставля
	ет за собой право
	 на исключение из соста
	ва группы! Нам потребуютс
	я:\n- 2 танка\n- 2 хила\n-
	 8 дд Чтобы поп
	асть в рейд требуе
	тся:\nЗаписаться в
	 комментариях (с 
	указанием роли
	 и ID\, если он о
	тличается от 
	форумного) Пр
	одолжительность собы
	тия - не более 2 часо
	в (рейд закончится
	 в 21-30 мск незави
	симо от текущег
	о прогресса (возмо
	жны исключения)(и еще
	 одна скобочка))\nСб
	ор\, перекуры\, переку
	сы и т.д. также вхо
	дят в указанные
	 2 часа\, так чт
	о прошу всех приходит
	ь вовремя и подготовленными на все 
	случаи жизни)
DTSTART:20191004T163000Z
END:VEVENT
END:VCALENDAR
