BEGIN:VCALENDAR
VERSION:2.0
PRODID:-//InvisionCommunity Events 4.7.14//EN
METHOD:PUBLISH
CALSCALE:GREGORIAN
REFRESH-INTERVAL:PT15M
X-PUBLISHED-TTL:PT15M
X-WR-CALNAME:The Elder Scrolls Online
NAME:The Elder Scrolls Online
BEGIN:VTIMEZONE
TZID:Europe/London
TZURL:http://tzurl.org/zoneinfo/Europe/London
X-LIC-LOCATION:Europe/London
BEGIN:DAYLIGHT
TZOFFSETFROM:+0000
TZOFFSETTO:+0100
TZNAME:BST
DTSTART:20190331T020000Z
RRULE:FREQ=YEARLY;BYMONTH=3;BYDAY=-1SU
END:DAYLIGHT
BEGIN:STANDARD
TZOFFSETFROM:+0100
TZOFFSETTO:+0000
TZNAME:GMT
DTSTART:20191027T020000Z
RRULE:FREQ=YEARLY;BYMONTH=10;BYDAY=-1SU
END:STANDARD
END:VTIMEZONE
BEGIN:VEVENT
SUMMARY:[TESO] Воскресная арена. vDSA
DTSTAMP:20190926T085523Z
SEQUENCE:0
UID:6039-1-afb15bc42254ad5fb0481ce5e9c8144d@forum.bandits-clan.ru
ORGANIZER;CN="mrachny":web@bandits-clan.ru
DESCRIPTION:\nВетеранская Dragonstar A
	rena.\n\nПриглашаю 
	желающих про
	йти данную арену
	. В случае успеха получ
	аем уникальное оружие.\n\nНача
	ло в 20-00 мск\, сбор в 19-5
	0 мск. Запись в ко
	мментариях\, при
	оритет в порядк
	е очереди и для тех\
	, кто не имеет отме
	тки о прохождении а
	рены.\n\nЯ могу пойти на
	 танке или дд\, поэто
	му нам понадобятся:\n- 1 хил 
	(меч+щит с прокачанным скилом Pierce A
	rmor либо Inner Rage для ласта)\n- 1-2 дд
	\n- 0-1 танк (умение п
	рожить 2 минуты без
	 хила\, умение стя
	гивать и стави
	ть мобов в кор
	ни)\n\nТребования (
	прошу неукоснительно
	 соблюдать следующие пункты
	):\n- 333+cp\n- подтвержденный ДПС 26к+ 
	для дд\n- 17к hp min для хила и дд\n- 
	танк с аттестацией Veteran+\n-
	 хил с аттестацией Veter
	an+\n\nПродолжительно
	сть события - н
	е более 3 часов\, вне зависимости от дос
	тигнутого прогресса.
DTSTART:20190929T170000Z
END:VEVENT
END:VCALENDAR
