BEGIN:VCALENDAR
VERSION:2.0
PRODID:-//InvisionCommunity Events 4.7.14//EN
METHOD:PUBLISH
CALSCALE:GREGORIAN
REFRESH-INTERVAL:PT15M
X-PUBLISHED-TTL:PT15M
X-WR-CALNAME:The Elder Scrolls Online
NAME:The Elder Scrolls Online
BEGIN:VTIMEZONE
TZID:Europe/London
TZURL:http://tzurl.org/zoneinfo/Europe/London
X-LIC-LOCATION:Europe/London
BEGIN:DAYLIGHT
TZOFFSETFROM:+0000
TZOFFSETTO:+0100
TZNAME:BST
DTSTART:20190331T020000Z
RRULE:FREQ=YEARLY;BYMONTH=3;BYDAY=-1SU
END:DAYLIGHT
BEGIN:STANDARD
TZOFFSETFROM:+0100
TZOFFSETTO:+0000
TZNAME:GMT
DTSTART:20191027T020000Z
RRULE:FREQ=YEARLY;BYMONTH=10;BYDAY=-1SU
END:STANDARD
END:VTIMEZONE
BEGIN:VEVENT
SUMMARY:[TESO] Обучающий триал hmAA
DTSTAMP:20190923T072459Z
SEQUENCE:0
UID:6024-1-afb15bc42254ad5fb0481ce5e9c8144d@forum.bandits-clan.ru
ORGANIZER;CN="Ghost_77":web@bandits-clan.ru
DESCRIPTION:Обучающий ве
	теранский триал hm AA (
	Этерианский архив) Начал
	о события 19-30 по МСК \nСбо
	р начинается в 19-20. Если в
	ы записались\, но не 
	пришли до 19-30\, 
	ваше место может
	 занять любой желающий из ча
	та. Требования: \n- Звание от B
	andit/Guard и выше\n- Подтвержд
	енный ДПС 30к+ для дд\n- Та
	нк и хил аттестация ранга normal\
	n- Табард гильдии\n- Team
	Speak\n- Отметка о 
	прохождении
	 ветеранской
	 версии триа
	ла с гильдией\
	n(Если вы не со
	ответствует
	е определенном
	у требованию\, н
	о уверены\, что
	 хорошо справи
	тесь со своей 
	задачей\, просьба св
	язаться со мной в игре) Нам 
	потребуются: \n- 2 танка\n
	- 2 хила\n- 8 дд \nЧто
	бы попасть в 
	рейд требует
	ся запись в к
	омментариях:.\nЗап
	ись в комментари
	ях обязательна (с
	 указанием роли
	 и ID\, если он о
	тличается от 
	форумного) Пр
	одолжительность собы
	тия - не более 2 часо
	в (рейд закончится
	 в 21-30 мск незави
	симо от текущег
	о прогресса (возмо
	жны исключения)(и еще
	 одна скобочка))\nСб
	ор\, перекуры\, переку
	сы и т.д. также вхо
	дят в указанные
	 2 часа\, так чт
	о прошу всех приходит
	ь вовремя и подготовленными на все 
	случаи жизни)
DTSTART:20190927T163000Z
END:VEVENT
END:VCALENDAR
